Workbook

Sheet Cuadro de inversión inicial
A1: CUADRO DE INVERSIÓN INICIAL | B1: UNIDAD DE MEDIDA | C1: CANTIDAD | D1: VALOR UNITARIO | E1: VALOR TOTAL
A2: I. INVERSIÓN FIJA | E2: =SUM(E3+E46+E75+E148) -> 281490688
A3: 1. INVERSIÓN FIJA TANGIBLE (Activo Fijo Tangible) | E3: =SUM(E4+E10+E16+E26+E35+E40) -> 255395888
A4: 1.1 Inversión en Infraestructura | E4: =SUM(E5:E9) -> 0
E5: =C5*D5 -> 0
E6: =C6*D6 -> 0
E7: =C7*D7 -> 0
E8: =C8*D8 -> 0
E9: =C9*D9 -> 0
A10: 1.2 Maquinaria, Equipo y Herramientas | E10: =SUM(E12:E15) -> 600000
A12: Kit Herramientas 1, Mecánica vehículos | B12: kit | C12: 1 | D12: 600000 | E12: =C12*D12 -> 600000
A13: Herramientas 2, perfiladora | E13: 0
A14: Herramientas 3 | E14: =C14*D14 -> 0
A15: Herramientas 4 | E15: =C15*D15 -> 0
A16: 1.3 Equipo de oficina, computo y comunicaciones | E16: =SUM(E17:E25) -> 3820000
A17: Equipo oficina 1, Impresora con escaner | B17: Unidad | C17: 1 | D17: 300000 | E17: =C17*D17 -> 300000
A18: Equipo oficina 1, Computador | B18: Unidad | C18: 1 | D18: 1300000 | E18: =C18*D18 -> 1300000
A19: Equipo de oficina 1, celular | B19: Unidad | C19: 1 | D19: 650000 | E19: =C19*D19 -> 650000
A20: Equipo de computo 1, equipo torre cpu intel | B20: Unidad | C20: 1 | D20: 1400000 | E20: =C20*D20 -> 1400000
A21: Equipo de computo 2, equipo torre cpu intel | D21: 0 | E21: =C21*D21 -> 0
A22: Equipo de computo 3 | E22: =C22*D22 -> 0
A23: Equipo de comunicaciones 1, Telefono empresarial | B23: unidad | C23: 1 | D23: 170000 | E23: =C23*D23 -> 170000
A24: Equipo de comunicaciones 2 | E24: =C24*D24 -> 0
A25: Equipo de comunicaciones 3 | E25: =C25*D25 -> 0
A26: 1.4 Muebles y enseres | E26: =SUM(E27:E34) -> 830000
A27: Muebles de oficina (sillas multiusos ) | B27: Unidad | C27: 1 | D27: 80000 | E27: =C27*D27 -> 80000
A28: Muebles de oficina 1 (sofa) | B28: Unidad | C28: 1 | D28: 300000 | E28: =C28*D28 -> 300000
A29: Muebles de oficina 1 (escritorios ) | B29: Unidad | C29: 1 | D29: 370000 | E29: =C29*D29 -> 370000
A30: Muebles de oficina (archivero) | B30: Unidad | C30: 1 | D30: 80000 | E30: =C30*D30 -> 80000
A31: Mobiliario de locaciones 1 | E31: =C31*D31 -> 0
A32: Mobiliario de locaciones 2 | E32: =C32*D32 -> 0
A33: Enseres 1 | E33: =C33*D33 -> 0
A34: Enseres 2 | E34: =C34*D34 -> 0
A35: 1.5 Accesorios de oficina y papelería | E35: =SUM(E36:E39) -> 145888
A36: Carpetas | B36: Unidad | C36: 5 | D36: 6000 | E36: =C36*D36 -> 30000
A37: Ganchos | B37: Unidad | C37: 36 | D37: 358 | E37: =C37*D37 -> 12888
A38: Esferos | B38: Unidad | C38: 5 | D38: 600 | E38: =C38*D38 -> 3000
A39: Papeleria 1 (facturero) | B39: unidad | C39: 10 | D39: 10000 | E39: =C39*D39 -> 100000
A40: 1.6 Vehículos operativos, de transporte y/o carga | E40: =SUM(E41:E45) -> 250000000
A41: Van Renault Master | B41: Unidad | C41: 1 | D41: 190000000 | E41: =C41*D41 -> 190000000
...

Sheet Paquete de servicios
B2: PAQUETE DE SERVICIOS | C2: DESCRIPCION | D2: COSTO TOTAL PRODUCTO | E2: PRECIO | F2: UTILIDAD | G2: MARGEN DE CONTRIBUCION | H2: CANTIDAD DEMANDADA
B3: Alquiler casa rodante | C3: Carro amoblado,cocina, baño, cama, | D3: 1100000 | E3: 2650000 | F3: =E3-D3 -> 1550000 | G3: =D3/E3 -> 0.41509434 | H3: 72
B4: Alquiler casa rodante con rutas turisticas | C4: Carro amoblado, incluye rutas turisticas por Boyaca con planes para realizar | D4: 2000000 | E4: 4700000 | F4: =E4-D4 -> 2700000 | G4: =D4/E4 -> 0.42553191 | H4: 72
B5: Conductor | C5: Si no desean manejar el conductor tiene un costo adicional | D5: 300000 | E5: 500000 | F5: =E5-D5 -> 200000 | G5: =D5/E5 -> 0.6 | H5: 72
E6: =SUM(E4:E5) -> 5200000 | G6: =E3*G3 -> 1100000 | H6: =H3/12 -> 6
B8: IPC anual
B9: Variacion del IPC
B12: PUNTO DE EQUILIBRIO
C13: PE= | D13: CF
D14: P-CV
B17: CF | C17: =D3 -> 1100000 | E17: CF | F17: =G25 -> 270320000
B18: CV | C18: =C31 -> 5200000 | E18: CV | F18: =F36 -> 272370000
B19: P | C19: =E3 -> 2650000 | E19: P | F19: 3000000
B20: PE | C20: =C17/(C19-C18) -> -0.43137255 | E20: PE | F20: =F17/(F19-F18) -> -1.0035267
I22: CREDITO | J22: PERIODO
B23: ALQUILER | E23: PROPIEDAD | I23: 350000000 | J23: 10
B24: Renta | C24: 2650000 | E24: Van Renault Master | F24: 230000000 | G24: Costos totales | I24: CALCULO VF | J24: INTERES SIMPLE
B25: Rutas | C25: 350000 | E25: Camperización | F25: 40000000 | G25: =SUM(F24,F25,F27,F28,F29,F30) -> 270320000 | I25: =J30 -> 385000000 | J25: 0.01
B26: Combustible | C26: 200000 | E26: Rutas | F26: 200000 | I26: VF=VP(1+ip*N)
B27: Chofer | C27: =E5 -> 500000 | E27: Alimentos y bebidas | F27: 100000 | G27: Precio | I27: VP | J27: =I23 -> 350000000
B28: Gerente | C28: 1000000 | E28: Tendidos | F28: 80000 | G28: 10000000 | I28: ip | J28: =J25 -> 0.01
B29: Auxiliar contable | C29: 500000 | E29: Articulos de aseo personal | F29: 100000 | I29: N | J29: =J23 -> 10
E30: Aseo | F30: 40000 | I30: VF | J30: =J27*(1+J25*J23) -> 385000000
B31: TOTAL | C31: =SUM(C24,C25,C26,C27,C28,C29,) -> 5200000 | E31: Chofer | F31: 150000 | I31: Interés | J31: =J30-J27 -> 35000000
E32: Combustible | F32: 200000
B33: Proyección ventas Año 1 | C33: 119145600 | E33: Gerente | F33: 1000000
B34: Total alquileres año 1 | C34: =C33/C31 -> 22.912615 | E34: Auxiliar contable | F34: 500000
B35: Proyección ventas Año 2 | C35: 218433600
B36: Total alquileres año 2 | C36: =C35/C31 -> 42.006462 | E36: TOTAL | F36: =SUM(F24,F25,F26,F27,F28,F29,F30,F31,F32,F33,F34) -> 272370000
B37: Proyección ventas Año 3 | C37: 397152000
B38: Total alquileres año 3 | C38: =C37/C31 -> 76.375385
B39: Proyección ventas Año 4 | C39: 496440000
B40: Total alquileres año 4 | C40: =C39/C31 -> 95.469231
B41: Proyección ventas Año 5 | C41: 595728000
B42: Total alquileres año 5 | C42: =C41/C31 -> 114.56308

Sheet CRONOGRAMA
B2: CRONOGRAMA DE ALQUILER DE CASA RODANTE FEBRERO 2024 | C2: FEBRERO 1-5 | H2: FEBRERO 6-10 | M2: FEBRERO 11-15 | R2: FEBRERO 16-20 | W2: FEBRERO 21-25 | AB2: FEBRERO 26-30
B3: Solicitud de alquiler por parte de cliente
B4: Preparación de documentación
B5: Especificación de ruta (si se escoge)
B6: Contratación con cliente por escrito (con gerente y auxiliar contable)
B7: Adecuación de la casa rodante
B8: Preparación final del conductor
B9: Carga del combustible
B10: Entrega de casa rodante donde la empresa lo estipule (con coinductor)
B11: Entrega de casa rodante en lugar acordado por empresa y cliente (sin conductor)
B12: Entrega de servicios adicionales
B13: Uso de la casa rodante
B14: Entrega del servicio de regreso a la empresa (con conductor)
B15: Entrega del servicio de regreso a la empresa (sin conductor)

Sheet IPC mensual
B2: IPC anual | C2: =C20 -> 0.12246154 | D2: 12.25
B3: Variacion del IPC | C3: =C21 -> 0.199 | G3: CF | H3: ='Cuadro de inversión inicial'!E93+'Cuadro de inversión inicial'!E101+'Cuadro de inversión inicial'!E112 -> 12280000
B4: Tasa de consumo mensual (manufactura) | D4: 0.038 | G4: CV | H4: =('Cuadro de inversión inicial'!E77+'Cuadro de inversión inicial'!E84+'Cuadro de inversión inicial'!E122)/'Paquete de servicios'!H3 -> 99816.667
G5: P | H5: ='Paquete de servicios'!E3 -> 2650000
B6: AGOSTO | G6: PE | H6: =H3/(H5-H4) -> 4.8153401
B7: 45108 | C7: 0.118
B8: 45078 | C8: 0.121
B9: 45047 | C9: 0.124
B10: 45017 | C10: 0.128
B11: 44986 | C11: 0.133
B12: 44958 | C12: 0.133
B13: 44927 | C13: 0.133
B14: 44896 | C14: 0.131
B15: 44866 | C15: 0.125
B16: 44835 | C16: 0.122
B17: 44805 | C17: 0.114
B18: 44774 | C18: 0.108
B19: 44743 | C19: 0.102
C20: =AVERAGE(C7:C19) -> 0.12246154
C21: =SUM(C7:C19)/8 -> 0.199

Sheet Ingresos y Costos proyectados
B2: MESES | C2: CANTIDAD | D2: VENTAS | E2: COSTOS | F2: UTILIDADES
B3: ENERO | C3: ='Paquete de servicios'!H6 -> 6 | D3: =C3*'IPC mensual'!$H$5 -> 15900000 | E3: ='IPC mensual'!$H$3+'IPC mensual'!$H$4 -> 12379817 | F3: =D3-E3 -> 3520183.3
B4: FEBRERO | C4: =(C3*'IPC mensual'!$D$4)+'Ingresos y Costos proyectados'!C3 -> 6.228 | D4: =C4*'IPC mensual'!$H$5 -> 16504200 | E4: ='IPC mensual'!$H$3+'IPC mensual'!$H$4 -> 12379817 | F4: =D4-E4 -> 4124383.3
B5: MARZO | C5: =(C4*'IPC mensual'!$D$4)+'Ingresos y Costos proyectados'!C4 -> 6.464664 | D5: =C5*'IPC mensual'!$H$5 -> 17131360 | E5: ='IPC mensual'!$H$3+'IPC mensual'!$H$4 -> 12379817 | F5: =D5-E5 -> 4751542.9
B6: ABRIL | C6: =(C5*'IPC mensual'!$D$4)+'Ingresos y Costos proyectados'!C5 -> 6.7103212 | D6: =C6*'IPC mensual'!$H$5 -> 17782351 | E6: ='IPC mensual'!$H$3+'IPC mensual'!$H$4 -> 12379817 | F6: =D6-E6 -> 5402534.6
B7: MAYO | C7: =(C6*'IPC mensual'!$D$4)+'Ingresos y Costos proyectados'!C6 -> 6.9653134 | D7: =C7*'IPC mensual'!$H$5 -> 18458081 | E7: ='IPC mensual'!$H$3+'IPC mensual'!$H$4 -> 12379817 | F7: =D7-E7 -> 6078263.9
B8: JUNIO | C8: =(C7*'IPC mensual'!$D$4)+'Ingresos y Costos proyectados'!C7 -> 7.2299953 | D8: =C8*'IPC mensual'!$H$5 -> 19159488 | E8: ='IPC mensual'!$H$3+'IPC mensual'!$H$4 -> 12379817 | F8: =D8-E8 -> 6779671
B9: JULIO | C9: =(C8*'IPC mensual'!$D$4)+'Ingresos y Costos proyectados'!C8 -> 7.5047352 | D9: =C9*'IPC mensual'!$H$5 -> 19887548 | E9: ='IPC mensual'!$H$3+'IPC mensual'!$H$4 -> 12379817 | F9: =D9-E9 -> 7507731.5
B10: AGOSTO | C10: =(C9*'IPC mensual'!$D$4)+'Ingresos y Costos proyectados'!C9 -> 7.7899151 | D10: =C10*'IPC mensual'!$H$5 -> 20643275 | E10: ='IPC mensual'!$H$3+'IPC mensual'!$H$4 -> 12379817 | F10: =D10-E10 -> 8263458.4
B11: SEPTIEMBRE | C11: =(C10*'IPC mensual'!$D$4)+'Ingresos y Costos proyectados'!C10 -> 8.0859319 | D11: =C11*'IPC mensual'!$H$5 -> 21427719 | E11: ='IPC mensual'!$H$3+'IPC mensual'!$H$4 -> 12379817 | F11: =D11-E11 -> 9047902.8
B12: OCTUBRE | C12: =(C11*'IPC mensual'!$D$4)+'Ingresos y Costos proyectados'!C11 -> 8.3931973 | D12: =C12*'IPC mensual'!$H$5 -> 22241973 | E12: ='IPC mensual'!$H$3+'IPC mensual'!$H$4 -> 12379817 | F12: =D12-E12 -> 9862156.2
B13: NOVIEMBRE | C13: =(C12*'IPC mensual'!$D$4)+'Ingresos y Costos proyectados'!C12 -> 8.7121388 | D13: =C13*'IPC mensual'!$H$5 -> 23087168 | E13: ='IPC mensual'!$H$3+'IPC mensual'!$H$4 -> 12379817 | F13: =D13-E13 -> 10707351
B14: DICIEMBRE | C14: =(C13*'IPC mensual'!$D$4)+'Ingresos y Costos proyectados'!C13 -> 9.0432001 | D14: =C14*'IPC mensual'!$H$5 -> 23964480 | E14: ='IPC mensual'!$H$3+'IPC mensual'!$H$4 -> 12379817 | F14: =D14-E14 -> 11584664
B15: TOTAL | D15: =SUM(D3:D14) -> 2.3618764e+08 | E15: =SUM(E3:E14) -> 148557800 | F15: =SUM(F3:F14) -> 87629843

Sheet Flujo de caja TIR y VNA
A1: FLUJO DE CAJA OPERACIONAL
A2: DETALLES DE INGRESOS | B2: MES 1 | C2: MES 2 | D2: MES 3 | E2: MES 4 | F2: MES 5 | G2: MES 6 | H2: MES 7 | I2: MES 8 | J2: MES 9 | K2: MES 10 | L2: MES 11 | M2: MES 12 | N2: Año 1 | O2: Año 2 | P2: Año 3
A4: Ingresos por ventas | B4: ='Ingresos y Costos proyectados'!D3 -> 15900000 | C4: =(B4*$O$6)+B4 -> 15900000 | D4: =(C4*$B$25)+C4 -> 15900000 | E4: =(D4*$B$25)+D4 -> 15900000 | F4: =(E4*$B$25)+E4 -> 15900000 | G4: =(F4*$B$25)+F4 -> 15900000 | H4: =(G4*$B$25)+G4 -> 15900000 | I4: =(H4*$B$25)+H4 -> 15900000 | J4: =(I4*$B$25)+I4 -> 15900000 | K4: =(J4*$B$25)+J4 -> 15900000 | ... M4: =(L4*$B$25)+L4 -> 15900000 | N4: =SUM(B4:M4) -> 190800000 | O4: =(N4*$B$26)+N4 -> 2.1416566e+08 | P4: =(O4*$B$26)+O4 -> 2.4039272e+08
A5: Cobro de cartera | B5: 0 | C5: 0 | D5: 0 | E5: 0 | F5: 0 | G5: 0 | H5: 0 | I5: 0 | J5: 0 | K5: 0 | L5: 0 | M5: 0 | N5: =SUM(B5:M5) -> 0 | O5: =(N5*$B$26)+N5 -> 0 | P5: =(O5*$B$26)+O5 -> 0
A6: Otros ingresos | C6: 0 | D6: 0 | E6: 0 | F6: 0 | G6: 0 | H6: 0 | I6: 0 | J6: 0 | K6: 0 | L6: 0 | M6: 0 | N6: =SUM(B6:M6) -> 0 | O6: =(N6*$B$26)+N6 -> 0 | P6: =(O6*$B$26)+O6 -> 0
A7: TOTAL | B7: =SUM(B4:B6) -> 15900000 | C7: =SUM(C4:C6) -> 15900000 | D7: =SUM(D4:D6) -> 15900000 | E7: =SUM(E4:E6) -> 15900000 | F7: =SUM(F4:F6) -> 15900000 | G7: =SUM(G4:G6) -> 15900000 | H7: =SUM(H4:H6) -> 15900000 | I7: =SUM(I4:I6) -> 15900000 | ... M7: =SUM(M4:M6) -> 15900000 | N7: =SUM(B7:M7) -> 190800000 | O7: =(N7*$B$26)+N7 -> 2.1416566e+08 | P7: =(O7*$B$26)+O7 -> 2.4039272e+08
O8: =(N8*$B$26)+N8 -> 0 | P8: =(O8*$B$26)+O8 -> 0
B9: 0 | O9: =(N9*$B$26)+N9 -> 0 | P9: =(O9*$B$26)+O9 -> 0
A10: DETALLES EGRESOS | O10: =(N10*$B$26)+N10 -> 0 | P10: =(O10*$B$26)+O10 -> 0
A11: Nómina | B11: =('Cuadro de inversión inicial'!E93+'Cuadro de inversión inicial'!E101)/12 -> 400000 | C11: =$B$11 -> 400000 | D11: =$B$11 -> 400000 | E11: =$B$11 -> 400000 | F11: =$B$11 -> 400000 | G11: =$B$11 -> 400000 | H11: =$B$11 -> 400000 | I11: =$B$11 -> 400000 | J11: =$B$11 -> 400000 | ... M11: =$B$11 -> 400000 | N11: =SUM(B11:M11) -> 4800000 | O11: =(N11*$B$26)+N11 -> 5387815.4 | P11: =(O11*$B$26)+O11 -> 6047615.5
A12: Materia Prima | B12: ='Cuadro de inversión inicial'!E77/12 -> 0 | C12: =(B12*$AB$44)+B12 -> 0 | D12: =(C12*$AB$44)+C12 -> 0 | E12: =(D12*$AB$44)+D12 -> 0 | F12: =(E12*$AB$44)+E12 -> 0 | G12: =(F12*$AB$44)+F12 -> 0 | H12: =(G12*$AB$44)+G12 -> 0 | I12: =(H12*$AB$44)+H12 -> 0 | J12: =(I12*$AB$44)+I12 -> 0 | ... M12: =(L12*$AB$44)+L12 -> 0 | N12: =SUM(B12:M12) -> 0 | O12: =(N12*$B$26)+N12 -> 0 | P12: =(O12*$B$26)+O12 -> 0
A13: Insumos | B13: ='Cuadro de inversión inicial'!E84 -> 1576800 | C13: =(B13*$AB$44)+B13 -> 1576800 | D13: =(C13*$AB$44)+C13 -> 1576800 | E13: =(D13*$AB$44)+D13 -> 1576800 | F13: =(E13*$AB$44)+E13 -> 1576800 | G13: =(F13*$AB$44)+F13 -> 1576800 | H13: =(G13*$AB$44)+G13 -> 1576800 | I13: =(H13*$AB$44)+H13 -> 1576800 | J13: =(I13*$AB$44)+I13 -> 1576800 | ... M13: =(L13*$AB$44)+L13 -> 1576800 | N13: =SUM(B13:M13) -> 18921600 | O13: =(N13*$B$26)+N13 -> 21238768 | P13: =(O13*$B$26)+O13 -> 23839700
A14: Administrativos | B14: ='Cuadro de inversión inicial'!E112/12 -> 623333.33 | C14: =$B$14 -> 623333.33 | D14: =$B$14 -> 623333.33 | E14: =$B$14 -> 623333.33 | F14: =$B$14 -> 623333.33 | G14: =$B$14 -> 623333.33 | H14: =$B$14 -> 623333.33 | I14: =$B$14 -> 623333.33 | J14: =$B$14 -> 623333.33 | ... M14: =$B$14 -> 623333.33 | N14: =SUM(B14:M14) -> 7480000 | O14: =(N14*$B$26)+N14 -> 8396012.3 | P14: =(O14*$B$26)+O14 -> 9424200.9
A15: Publicidad y ventas | B15: ='Cuadro de inversión inicial'!$E$122/12 -> 467500 | C15: =(B15*$AB$44)+B15 -> 467500 | D15: =(C15*$AB$44)+C15 -> 467500 | E15: =(D15*$AB$44)+D15 -> 467500 | F15: =(E15*$AB$44)+E15 -> 467500 | G15: =(F15*$AB$44)+F15 -> 467500 | H15: =(G15*$AB$44)+G15 -> 467500 | I15: =(H15*$AB$44)+H15 -> 467500 | J15: =(I15*$AB$44)+I15 -> 467500 | ... M15: =(L15*$AB$44)+L15 -> 467500 | N15: =SUM(B15:M15) -> 5610000 | O15: =(N15*$B$26)+N15 -> 6297009.2 | P15: =(O15*$B$26)+O15 -> 7068150.7
A16: Intereses | B16: 0 | C16: 0 | D16: 0 | E16: 0 | F16: 0 | G16: 0 | H16: 0 | I16: 0 | J16: 0 | K16: 0 | L16: 0 | M16: 0 | N16: =SUM(B16:M16) -> 0 | O16: =(N16*$B$26)+N16 -> 0 | P16: =(O16*$B$26)+O16 -> 0
A17: Total Costos operativos | B17: =SUM(B11:B16) -> 3067633.3 | C17: =SUM(C11:C16) -> 3067633.3 | D17: =SUM(D11:D16) -> 3067633.3 | E17: =SUM(E11:E16) -> 3067633.3 | F17: =SUM(F11:F16) -> 3067633.3 | G17: =SUM(G11:G16) -> 3067633.3 | H17: =SUM(H11:H16) -> 3067633.3 | I17: =SUM(I11:I16) -> 3067633.3 | ... M17: =SUM(M11:M16) -> 3067633.3 | N17: =SUM(B17:M17) -> 36811600 | O17: =(N17*$B$26)+N17 -> 41319605 | P17: =(O17*$B$26)+O17 -> 46379668
O18: =(N18*$B$26)+N18 -> 0 | P18: =(O18*$B$26)+O18 -> 0
A19: TOTAL EGRESOS | B19: =B17 -> 3067633.3 | C19: =C17 -> 3067633.3 | D19: =D17 -> 3067633.3 | E19: =E17 -> 3067633.3 | F19: =F17 -> 3067633.3 | G19: =G17 -> 3067633.3 | H19: =H17 -> 3067633.3 | I19: =I17 -> 3067633.3 | ... M19: =M17 -> 3067633.3 | N19: =N5-N15 -> -5610000 | O19: =(N19*$B$26)+N19 -> -6297009.2 | P19: =(O19*$B$26)+O19 -> -7068150.7
A20: SALDO NETO | B20: =B7-B19 -> 12832367 | C20: =C7-C19 -> 12832367 | D20: =D7-D19 -> 12832367 | E20: =E7-E19 -> 12832367 | F20: =F7-F19 -> 12832367 | G20: =G7-G19 -> 12832367 | H20: =H7-H19 -> 12832367 | I20: =I7-I19 -> 12832367 | ... M20: =M7-M19 -> 12832367 | N20: =N6-N16 -> 0 | O20: =(N20*$B$26)+N20 -> 0 | P20: =(O20*$B$26)+O20 -> 0
A21: TOTAL ACOMULADO | B21: =B20 -> 12832367 | C21: =C20+B21 -> 25664733 | D21: =D20+C21 -> 38497100 | E21: =E20+D21 -> 51329467 | F21: =F20+E21 -> 64161833 | G21: =G20+F21 -> 76994200 | H21: =H20+G21 -> 89826567 | I21: =I20+H21 -> 1.0265893e+08 | J21: =J20+I21 -> 115491300 | ... M21: =M20+L21 -> 153988400 | N21: =N7-N17 -> 153988400 | O21: =(N21*$B$26)+N21 -> 1.7284606e+08 | P21: =(O21*$B$26)+O21 -> 1.9401305e+08
A26: IPC ANUAL | B26: ='IPC mensual'!C2 -> 0.12246154 | D26: TIO (Tasa interna de oportunidad) | E26: TREMA
A27: IPC MENSUAL PROMEDIO | B27: ='IPC mensual'!C3 -> 0.199 | D27: =C39 -> 0.34
A28: TASA DE CONSUMO | B28: 0.038 | D28: INVERSIÓN | E28: AÑO 1 | F28: AÑO 2 | G28: AÑO 3 | H28: AÑO 4 | I28: AÑO 5
D29: =-'Cuadro de inversión inicial'!E2 -> -281490688 | E29: =N21 -> 153988400 | F29: =(E29*$B$26)+E29 -> 1.7284606e+08 | G29: =(F29*$B$26)+F29 -> 1.9401305e+08 | H29: =(G29*$B$26)+G29 -> 217772187 | I29: =(H29*$B$26)+H29 -> 244440904
D30: TIR
D31: =IRR(D29:I29) -> 0.56601784
D33: Tasa de Descuento | E33: 0.032
D34: VNA
D35: {=NPV(E33,E29:I29)+D29} -> 6.0734895e+08
B38: TASA INTERNA DE OPORTUNIDAD POR SECTORES | C38: SERVICIOS
C39: 0.34

Sheet Estado de resultados proyectado
A1: ESTADOS DE RESULTADOS O (PYG) PROYECTADO | B1: AÑO 1 | C1: AÑO 2 | D1: AÑO 3
A2: TOTAL DE VENTAS | B2: ='Ingresos y Costos proyectados'!D15 -> 2.3618764e+08 | C2: =(B2*$B$18)+B2 -> 2.6512063e+08 | D2: =(C2*$B$18)+C2 -> 297597906
A3: (-)DEVOLUCIÓN EN VENTAS | B3: 0 | C3: =(B3*$B$18)+B3 -> 0 | D3: =(C3*$B$18)+C3 -> 0
A4: INGRESOS OPERACIONALES (VENTAS NETAS) | B4: =B2-B3 -> 2.3618764e+08 | C4: =(B4*$B$18)+B4 -> 2.6512063e+08 | D4: =(C4*$B$18)+C4 -> 297597906
A5: (-)TOTAL DE COSTOS | B5: ='Ingresos y Costos proyectados'!E15 -> 148557800 | C5: =(B5*$B$18)+B5 -> 1.6675613e+08 | D5: =(C5*$B$18)+C5 -> 1.8718376e+08
A6: UTILIDAD BRUTA | B6: =B4-B5 -> 87629843 | C6: =(B6*$B$18)+B6 -> 98364498 | D6: =(C6*$B$18)+C6 -> 1.1041415e+08
A7: (-)GASTOS OPERACIONALES DE ADMINISTRACIÓN | B7: 0 | C7: =(B7*$B$18)+B7 -> 0 | D7: =(C7*$B$18)+C7 -> 0
A8: (-)GASTOS OPERACIONALES DE VENTAS | B8: 0 | C8: =(B8*$B$18)+B8 -> 0 | D8: =(C8*$B$18)+C8 -> 0
A9: UTILIDAD OPERACIONAL | B9: =B6-B7-B8 -> 87629843 | C9: =(B9*$B$18)+B9 -> 98364498 | D9: =(C9*$B$18)+C9 -> 1.1041415e+08
A10: (+) INGRESOS NO OPERACIONALES | B10: 0 | C10: =(B10*$B$18)+B10 -> 0 | D10: =(C10*$B$18)+C10 -> 0
A11: UTILIDAD ANTES DE IMPUESTOS | B11: =B9+B10 -> 87629843 | C11: =(B11*$B$18)+B11 -> 98364498 | D11: =(C11*$B$18)+C11 -> 1.1041415e+08
A12: (-)IMPUESTOS | B12: 0 | C12: =(B12*$B$18)+B12 -> 0 | D12: =(C12*$B$18)+C12 -> 0
A13: UTILIDAD NETA | B13: =B11-B12 -> 87629843 | C13: =(B13*$B$18)+B13 -> 98364498 | D13: =(C13*$B$18)+C13 -> 1.1041415e+08
A14: (-)RESERVA LEGAL (10%) | B14: 0 | C14: =(B14*$B$18)+B14 -> 0 | D14: =(C14*$B$18)+C14 -> 0
A15: UTILIDAD NETA DISPONIBLE PARA ACCIONISTAS | B15: =B13-B14 -> 87629843 | C15: =(B15*$B$18)+B15 -> 98364498 | D15: =(C15*$B$18)+C15 -> 1.1041415e+08
A17: IPC % variación promedio anual 2023 | B17: 12.25
B18: =B17/100 -> 0.1225

Sheet Balance general proyectado
A1: BALANCE GENERAL ON MY WAY | C1: IPC | D1: 0.1225
A2: ACTIVOS | B2: AÑO 1 | C2: AÑO 2 | D2: AÑO 3
A3: Activos corrientes | B3: =SUM(B4+B5) -> 19466800 | C3: =(B3*$D$1)+B3 -> 21851483 | D3: =(C3*$D$1)+C3 -> 24528290
A4: Cuentas por cobrar | B4: 0 | C4: =(B4*$D$1)+B4 -> 0 | D4: =(C4*$D$1)+C4 -> 0
A5: Inventarios | B5: ='Cuadro de inversión inicial'!E75 -> 19466800 | C5: =(B5*$D$1)+B5 -> 21851483 | D5: =(C5*$D$1)+C5 -> 24528290
A6: Activos no corrientes (Activos fijos) | B6: =SUM(B7:B12) -> 262023888 | C6: =(B6*$D$1)+B6 -> 2.9412181e+08 | D6: =(C6*$D$1)+C6 -> 3.3015174e+08
A7: Equipo de oficina | B7: ='Cuadro de inversión inicial'!E16 -> 3820000 | C7: =(B7*$D$1)+B7 -> 4287950 | D7: =(C7*$D$1)+C7 -> 4813223.9
A8: Maquinaria y equipos | B8: ='Cuadro de inversión inicial'!E10 -> 600000 | C8: =(B8*$D$1)+B8 -> 673500 | D8: =(C8*$D$1)+C8 -> 756003.75
A9: Muebles y enseres | B9: 830000 | C9: =(B9*$D$1)+B9 -> 931675 | D9: =(C9*$D$1)+C9 -> 1045805.2
A10: Vehículos | B10: ='Cuadro de inversión inicial'!E40 -> 250000000 | C10: =(B10*$D$1)+B10 -> 280625000 | D10: =(C10*$D$1)+C10 -> 3.1500156e+08
A11: Otros activos | B11: ='Cuadro de inversión inicial'!E46 -> 6628000 | C11: =(B11*$D$1)+B11 -> 7439930 | D11: =(C11*$D$1)+C11 -> 8351321.4
B12: ='Cuadro de inversión inicial'!E35 -> 145888 | C12: =(B12*$D$1)+B12 -> 163759.28 | D12: =(C12*$D$1)+C12 -> 183819.79
A13: TOTAL DE ACTIVOS | B13: =B6+B3 -> 281490688 | C13: =(B13*$D$1)+B13 -> 3.159733e+08 | D13: =(C13*$D$1)+C13 -> 3.5468003e+08
B14: 0 | C14: =(B14*$D$1)+B14 -> 0 | D14: =(C14*$D$1)+C14 -> 0
A15: PASIVOS | B15: 0 | C15: =(B15*$D$1)+B15 -> 0 | D15: =(C15*$D$1)+C15 -> 0
A16: Pasivos corrientes | B16: 0 | C16: =(B16*$D$1)+B16 -> 0 | D16: =(C16*$D$1)+C16 -> 0
A17: Cuentas por pagar comerciales | B17: ='Cuadro de inversión inicial'!E75 -> 19466800 | C17: =(B17*$D$1)+B17 -> 21851483 | D17: =(C17*$D$1)+C17 -> 24528290
A18: Proveedores | C18: =(B18*$D$1)+B18 -> 0 | D18: =(C18*$D$1)+C18 -> 0
A19: Pasivos No Corrientes | B19: 0 | C19: =(B19*$D$1)+B19 -> 0 | D19: =(C19*$D$1)+C19 -> 0
A20: Obleicaciones Financieras | B20: 0 | C20: =(B20*$D$1)+B20 -> 0 | D20: =(C20*$D$1)+C20 -> 0
A21: Impuestos pendientes | B21: 0 | C21: =(B21*$D$1)+B21 -> 0 | D21: =(C21*$D$1)+C21 -> 0
A22: Otros Pasivos | B22: 0 | C22: =(B22*$D$1)+B22 -> 0 | D22: =(C22*$D$1)+C22 -> 0
A23: TOTAL DE PASIVOS | B23: =SUM(B14:B22) -> 19466800 | C23: =(B23*$D$1)+B23 -> 21851483 | D23: =(C23*$D$1)+C23 -> 24528290
C24: =(B24*$D$1)+B24 -> 0 | D24: =(C24*$D$1)+C24 -> 0
A25: PATRIMONIO | B25: =B13-B23 -> 262023888 | C25: =C13-C23 -> 2.9412181e+08 | D25: =D13-D23 -> 3.3015174e+08
A26: Capital aportado | B26: =B25 -> 262023888 | C26: =(B26*$D$1)+B26 -> 2.9412181e+08 | D26: =(C26*$D$1)+C26 -> 3.3015174e+08
A27: Utilidades retenidas | B27: 0 | C27: =(B27*$D$1)+B27 -> 0 | D27: =(C27*$D$1)+C27 -> 0
A28: Superavit | B28: 0 | C28: =(B28*$D$1)+B28 -> 0 | D28: =(C28*$D$1)+C28 -> 0
B29: 0 | C29: =(B29*$D$1)+B29 -> 0 | D29: =(C29*$D$1)+C29 -> 0
A30: TOTAL PASIVO + PATRIMONIO | B30: =B23+B25 -> 281490688 | C30: =C25+C23 -> 3.159733e+08 | D30: =D25+D23 -> 3.5468003e+08

Sheet Indicadores financieros
B2: Indicador financiero | C2: Valor Año 1 | D2: Año 2 | E2: Año 3
B3: Margen bruto | C3: =('Ingresos y Costos proyectados'!D15-'Ingresos y Costos proyectados'!E15)/'Ingresos y Costos proyectados'!D15 -> 0.3710179 | D3: ='Estado de resultados proyectado'!B6/'Estado de resultados proyectado'!B2 -> 0.3710179 | E3: ='Estado de resultados proyectado'!D6/'Estado de resultados proyectado'!D2 -> 0.3710179
B4: Margen neto | C4: =('Estado de resultados proyectado'!B6-0)/'Estado de resultados proyectado'!B2 -> 0.3710179 | D4: ='Estado de resultados proyectado'!B13/'Estado de resultados proyectado'!B4 -> 0.3710179 | E4: ='Estado de resultados proyectado'!D13/'Estado de resultados proyectado'!D4 -> 0.3710179
B5: ROA | C5: ='Estado de resultados proyectado'!B13/'Balance general proyectado'!B13 -> 0.31130636 | D5: ='Estado de resultados proyectado'!C13/'Balance general proyectado'!C13 -> 0.31130636 | E5: ='Estado de resultados proyectado'!D13/'Balance general proyectado'!D13 -> 0.31130636
B6: ROE | C6: ='Estado de resultados proyectado'!B13/'Balance general proyectado'!B25 -> 0.33443456 | D6: ='Estado de resultados proyectado'!C13/'Balance general proyectado'!C25 -> 0.33443456 | E6: ='Estado de resultados proyectado'!D13/'Balance general proyectado'!D25 -> 0.33443456
B7: ROI | C7: =('Estado de resultados proyectado'!B2-'Balance general proyectado'!B26)/'Balance general proyectado'!B26 -> -0.098602633 | D7: =('Estado de resultados proyectado'!C2-'Balance general proyectado'!C26)/'Balance general proyectado'!C26 -> -0.098602633 | E7: =('Estado de resultados proyectado'!D2-'Balance general proyectado'!D26)/'Balance general proyectado'!D26 -> -0.098602633
B8: Índice de endeudamiento | C8: ='Balance general proyectado'!B23/'Balance general proyectado'!B25 -> 0.07429399 | D8: ='Balance general proyectado'!C23/'Balance general proyectado'!C25 -> 0.07429399 | E8: ='Balance general proyectado'!D23/'Balance general proyectado'!D25 -> 0.07429399
