Workbook

Sheet casos
AW1: Casos TRR 2016
AV2: EPS | AW2: regimen | AX2: 0-4 | AY2: 5-9 | AZ2: 10-14 | BA2: 15-19 | BB2: 20-24 | BC2: 25-29 | BD2: 30-34 | BE2: 35-39 | BF2: 40-44 | BG2: 45-49 | BH2: 50-54 | BI2: 55-59 | BJ2: 60-64 | BK2: 65-69 | BL2: 70-74 | BM2: 75-79 | BN2: 80 o mas | BO2: total
AU3: 1 | AV3: CCF007 | AW3: S | AX3: 0 | AY3: 0 | AZ3: 1 | BA3: 5 | BB3: 2 | BC3: 9 | BD3: 7 | BE3: 5 | BF3: 9 | BG3: 14 | BH3: 17 | BI3: 16 | BJ3: 11 | BK3: 9 | BL3: 5 | BM3: 6 | BN3: 7 | BO3: =SUM(AX3:BN3) -> 123
AU4: 2 | AV4: CCF009 | AW4: S | AX4: 0 | AY4: 0 | AZ4: 0 | BA4: 3 | BB4: 0 | BC4: 0 | BD4: 3 | BE4: 4 | BF4: 7 | BG4: 5 | BH4: 5 | BI4: 7 | BJ4: 7 | BK4: 5 | BL4: 4 | BM4: 6 | BN4: 4 | BO4: =SUM(AX4:BN4) -> 60
AU5: 3 | AV5: CCF015 | AW5: S | AX5: 0 | AY5: 1 | AZ5: 1 | BA5: 0 | BB5: 10 | BC5: 9 | BD5: 11 | BE5: 15 | BF5: 20 | BG5: 18 | BH5: 20 | BI5: 32 | BJ5: 24 | BK5: 21 | BL5: 22 | BM5: 7 | BN5: 7 | BO5: =SUM(AX5:BN5) -> 218
AU6: 4 | AV6: CCF023 | AW6: S | AX6: 0 | AY6: 0 | AZ6: 0 | BA6: 1 | BB6: 0 | BC6: 1 | BD6: 3 | BE6: 5 | BF6: 2 | BG6: 5 | BH6: 7 | BI6: 7 | BJ6: 4 | BK6: 4 | BL6: 4 | BM6: 3 | BN6: 1 | BO6: =SUM(AX6:BN6) -> 47
AU7: 5 | AV7: CCF024 | AW7: S | AX7: 0 | AY7: 1 | AZ7: 4 | BA7: 5 | BB7: 9 | BC7: 11 | BD7: 16 | BE7: 16 | BF7: 23 | BG7: 42 | BH7: 34 | BI7: 40 | BJ7: 45 | BK7: 35 | BL7: 35 | BM7: 36 | BN7: 21 | BO7: =SUM(AX7:BN7) -> 373
AU8: 6 | AV8: CCF027 | AW8: S | AX8: 0 | AY8: 0 | AZ8: 2 | BA8: 0 | BB8: 0 | BC8: 5 | BD8: 4 | BE8: 12 | BF8: 6 | BG8: 9 | BH8: 7 | BI8: 7 | BJ8: 9 | BK8: 11 | BL8: 9 | BM8: 3 | BN8: 3 | BO8: =SUM(AX8:BN8) -> 87
AU9: 7 | AV9: CCF033 | AW9: S | AX9: 0 | AY9: 0 | AZ9: 0 | BA9: 0 | BB9: 2 | BC9: 4 | BD9: 1 | BE9: 5 | BF9: 6 | BG9: 2 | BH9: 2 | BI9: 8 | BJ9: 11 | BK9: 3 | BL9: 5 | BM9: 5 | BN9: 5 | BO9: =SUM(AX9:BN9) -> 59
AU10: 8 | AV10: CCF049 | AW10: S | AX10: 0 | AY10: 0 | AZ10: 1 | BA10: 1 | BB10: 1 | BC10: 5 | BD10: 1 | BE10: 1 | BF10: 7 | BG10: 5 | BH10: 5 | BI10: 4 | BJ10: 4 | BK10: 4 | BL10: 1 | BM10: 0 | BN10: 2 | BO10: =SUM(AX10:BN10) -> 42
AU11: 9 | AV11: CCF053 | AW11: S | AX11: 0 | AY11: 0 | AZ11: 0 | BA11: 1 | BB11: 5 | BC11: 6 | BD11: 6 | BE11: 4 | BF11: 4 | BG11: 18 | BH11: 6 | BI11: 19 | BJ11: 11 | BK11: 11 | BL11: 10 | BM11: 13 | BN11: 14 | BO11: =SUM(AX11:BN11) -> 128
AU12: 10 | AV12: CCF055 | AW12: S | AX12: 0 | AY12: 0 | AZ12: 1 | BA12: 2 | BB12: 6 | BC12: 8 | BD12: 12 | BE12: 8 | BF12: 13 | BG12: 20 | BH12: 24 | BI12: 30 | BJ12: 27 | BK12: 14 | BL12: 16 | BM12: 11 | BN12: 16 | BO12: =SUM(AX12:BN12) -> 208
AU13: 11 | AV13: CCF102 | AW13: S | AX13: 0 | AY13: 0 | AZ13: 0 | BA13: 1 | BB13: 2 | BC13: 0 | BD13: 1 | BE13: 0 | BF13: 1 | BG13: 4 | BH13: 2 | BI13: 2 | BJ13: 3 | BK13: 6 | BL13: 2 | BM13: 3 | BN13: 0 | BO13: =SUM(AX13:BN13) -> 27
AU14: 12 | AV14: EAS016 | AW14: C | AX14: 0 | AY14: 0 | AZ14: 0 | BA14: 0 | BB14: 0 | BC14: 0 | BD14: 0 | BE14: 0 | BF14: 0 | BG14: 0 | BH14: 1 | BI14: 5 | BJ14: 3 | BK14: 6 | BL14: 3 | BM14: 0 | BN14: 0 | BO14: =SUM(AX14:BN14) -> 18
... AU49: 47 | AV49: ESS207 | AW49: S | AX49: 1 | AY49: 0 | AZ49: 3 | BA49: 10 | BB49: 24 | BC49: 23 | BD49: 42 | BE49: 43 | BF49: 46 | BG49: 60 | BH49: 83 | BI49: 102 | BJ49: 93 | BK49: 77 | BL49: 51 | BM49: 47 | BN49: 73 | BO49: =SUM(AX49:BN49) -> 778
AV50: Total general | AX50: =SUM(AX3:AX49) -> 23 | AY50: =SUM(AY3:AY49) -> 46 | AZ50: =SUM(AZ3:AZ49) -> 150 | BA50: =SUM(BA3:BA49) -> 384 | BB50: =SUM(BB3:BB49) -> 762 | BC50: =SUM(BC3:BC49) -> 1078 | BD50: =SUM(BD3:BD49) -> 1581 | BE50: =SUM(BE3:BE49) -> 1849 | ... BO50: =SUM(BO3:BO49) -> 32947

Sheet BDUA
B1: POBLACION BDUA 30 junio 2016 (Activos)
B2: EPS | C2: Reg | D2: 0 a 4 Años | E2: 5 a 9 Años | F2: 10 a 14 Años | G2: 15 a 19 Años | H2: 20 a 24 Años | I2: 25 a 29 Años | J2: 30 a 34 Años | K2: 35 a 39 Años | L2: 40 a 44 Años | M2: 45 a 49Años | N2: 50 a 54 Años | O2: 55 a 59 Años | P2: 60 a 64 Años | Q2: 65 a 69 Años | R2: 70 a 74 Años | S2: 75 a 79 Años | T2: 80 y mas Años | U2: Total
A3: 1 | B3: CCF007 | C3: S | D3: 19909 | E3: 23279 | F3: 23770 | G3: 23640 | H3: 17715 | I3: 13907 | J3: 12912 | K3: 11607 | L3: 11038 | M3: 11595 | N3: 10944 | O3: 9368 | P3: 7116 | Q3: 5727 | R3: 4184 | S3: 3789 | T3: 4998 | U3: =SUM(D3:T3) -> 215498
A4: 2 | B4: CCF009 | C4: S | D4: 6402 | E4: 8454 | F4: 8829 | G4: 11190 | H4: 7672 | I4: 5730 | J4: 5425 | K4: 5966 | L4: 6617 | M4: 6621 | N4: 6461 | O4: 5639 | P4: 4605 | Q4: 3882 | R4: 3055 | S4: 2596 | T4: 3345 | U4: =SUM(D4:T4) -> 102489
A5: 3 | B5: CCF015 | C5: S | D5: 47300 | E5: 59474 | F5: 68267 | G5: 71202 | H5: 56478 | I5: 50004 | J5: 39872 | K5: 35965 | L5: 33506 | M5: 37009 | N5: 27650 | O5: 23896 | P5: 18994 | Q5: 14770 | R5: 11083 | S5: 9552 | T5: 15918 | U5: =SUM(D5:T5) -> 620940
A6: 4 | B6: CCF023 | C6: S | D6: 13375 | E6: 15957 | F6: 17818 | G6: 16950 | H6: 12927 | I6: 13435 | J6: 9019 | K6: 7337 | L6: 6671 | M6: 7338 | N6: 5339 | O6: 4871 | P6: 3436 | Q6: 2919 | R6: 2245 | S6: 2233 | T6: 3535 | U6: =SUM(D6:T6) -> 145405
A7: 5 | B7: CCF024 | C7: S | D7: 46448 | E7: 50253 | F7: 60416 | G7: 63766 | H7: 44119 | I7: 34833 | J7: 32389 | K7: 30573 | L7: 29098 | M7: 28802 | N7: 27006 | O7: 22407 | P7: 17911 | Q7: 14322 | R7: 11080 | S7: 9332 | T7: 11307 | U7: =SUM(D7:T7) -> 534062
A8: 6 | B8: CCF027 | C8: S | D8: 12453 | E8: 14304 | F8: 18962 | G8: 20991 | H8: 16373 | I8: 14699 | J8: 13633 | K8: 12651 | L8: 10936 | M8: 10703 | N8: 8921 | O8: 7327 | P8: 5909 | Q8: 4951 | R8: 4046 | S8: 3207 | T8: 4440 | U8: =SUM(D8:T8) -> 184506
A9: 7 | B9: CCF033 | C9: S | D9: 6611 | E9: 9817 | F9: 10722 | G9: 10440 | H9: 9401 | I9: 7843 | J9: 6443 | K9: 5676 | L9: 5516 | M9: 5618 | N9: 4942 | O9: 4353 | P9: 3356 | Q9: 3063 | R9: 2149 | S9: 1981 | T9: 3337 | U9: =SUM(D9:T9) -> 101268
A10: 8 | B10: CCF049 | C10: S | D10: 5948 | E10: 8383 | F10: 10766 | G10: 12198 | H10: 9112 | I10: 7042 | J10: 6852 | K10: 6835 | L10: 6440 | M10: 6322 | N10: 5822 | O10: 4997 | P10: 4054 | Q10: 3277 | R10: 2561 | S10: 2160 | T10: 2817 | U10: =SUM(D10:T10) -> 105586
A11: 9 | B11: CCF053 | C11: S | D11: 5120 | E11: 6376 | F11: 8003 | G11: 14716 | H11: 9491 | I11: 9237 | J11: 6784 | K11: 6208 | L11: 4844 | M11: 9542 | N11: 6249 | O11: 6262 | P11: 4499 | Q11: 3368 | R11: 2518 | S11: 2003 | T11: 3764 | U11: =SUM(D11:T11) -> 108984
A12: 10 | B12: CCF055 | C12: S | D12: 52496 | E12: 57946 | F12: 73115 | G12: 78486 | H12: 66573 | I12: 60678 | J12: 47534 | K12: 42595 | L12: 38418 | M12: 41687 | N12: 32007 | O12: 26366 | P12: 19134 | Q12: 14267 | R12: 10332 | S12: 9063 | T12: 12411 | U12: =SUM(D12:T12) -> 683108
A13: 11 | B13: CCF102 | C13: S | D13: 15729 | E13: 18824 | F13: 19594 | G13: 18051 | H13: 14427 | I13: 12647 | J13: 10135 | K13: 7870 | L13: 6420 | M13: 5554 | N13: 4989 | O13: 4486 | P13: 3136 | Q13: 2445 | R13: 1652 | S13: 2311 | T13: 3001 | U13: =SUM(D13:T13) -> 151271
A14: 12 | B14: EAS016 | C14: C | D14: 89 | E14: 171 | F14: 424 | G14: 855 | H14: 989 | I14: 107 | J14: 73 | K14: 77 | L14: 178 | M14: 695 | N14: 1558 | O14: 1728 | P14: 1423 | Q14: 993 | R14: 555 | S14: 264 | T14: 285 | U14: =SUM(D14:T14) -> 10464
... A49: 47 | B49: ESS207 | C49: S | D49: 124988 | E49: 125683 | F49: 125730 | G49: 137707 | H49: 111001 | I49: 101253 | J49: 101339 | K49: 81889 | L49: 71189 | M49: 73125 | N49: 76916 | O49: 55288 | P49: 40458 | Q49: 30750 | R49: 21809 | S49: 18708 | T49: 25108 | U49: =SUM(D49:T49) -> 1322941
B50: Total general | D50: =SUM(D3:D49) -> 3019334 | E50: =SUM(E3:E49) -> 3525648 | F50: =SUM(F3:F49) -> 3828024 | G50: =SUM(G3:G49) -> 4074050 | H50: =SUM(H3:H49) -> 3852120 | I50: =SUM(I3:I49) -> 3532967 | J50: =SUM(J3:J49) -> 3330817 | K50: =SUM(K3:K49) -> 3079363 | ... U50: =SUM(U3:U49) -> 43861082

Sheet CALCULOS
B1: Distribuciones de Prevalencias B por Grupos Etareos
B2: Codigo | D2: =+'[1]POBLACION BDUA'!D2 -> 0 a 4 Años | E2: =+'[1]POBLACION BDUA'!E2 -> 5 a 9 Años | F2: =+'[1]POBLACION BDUA'!F2 -> 10 a 14 Años | G2: =+'[1]POBLACION BDUA'!G2 -> 15 a 19 Años | H2: =+'[1]POBLACION BDUA'!H2 -> 20 a 24 Años | I2: =+'[1]POBLACION BDUA'!I2 -> 25 a 29 Años | J2: =+'[1]POBLACION BDUA'!J2 -> 30 a 34 Años | K2: =+'[1]POBLACION BDUA'!K2 -> 35 a 39 Años | ... U2: =+'[1]POBLACION BDUA'!U2 -> Total | X2: Codigo | Y2: 0 a 4 Años | Z2: 5 a 9 Años | AA2: 10 a 14 Años | AB2: 15 a 19 Años | AC2: 20 a 24 Años | AD2: 25 a 29 Años | AE2: 30 a 34 Años | AF2: 35 a 39 Años | AG2: 40 a 44 Años | AH2: 45 a 49Años | AI2: 50 a 54 Años | AJ2: 55 a 59 Años | AK2: 60 a 64 Años | AL2: 65 a 69 Años | AM2: 70 a 74 Años | AN2: 75 a 79 Años | AO2: 80 y mas Años | AP2: Total
A3: 1 | B3: =+casos!AV3 -> CCF007 | C3: =+casos!AW3 -> S | D3: =casos!AX3/BDUA!D3*100000 -> 0 | E3: =casos!AY3/BDUA!E3*100000 -> 0 | F3: =casos!AZ3/BDUA!F3*100000 -> 4.2069836 | G3: =casos!BA3/BDUA!G3*100000 -> 21.150592 | H3: =casos!BB3/BDUA!H3*100000 -> 11.289867 | I3: =casos!BC3/BDUA!I3*100000 -> 64.715611 | J3: =casos!BD3/BDUA!J3*100000 -> 54.213135 | K3: =casos!BE3/BDUA!K3*100000 -> 43.077453 | ... U3: =casos!BO3/BDUA!U3*100000 -> 57.077096 | W3: 1 | X3: =+B3 -> CCF007 | Y3: =((+D3-$D$50)^2)*BDUA!D3 -> 11552.682 | Z3: =((+E3-$E$50)^2)*BDUA!E3 -> 39627.994 | AA3: =((+F3-$F$50)^2)*BDUA!F3 -> 1978.607 | AB3: =((+G3-$G$50)^2)*BDUA!G3 -> 3249969.2 | AC3: =((+H3-$H$50)^2)*BDUA!H3 -> 1277334.5 | AD3: =((+I3-$I$50)^2)*BDUA!I3 -> 16269050 | AE3: =((+J3-$J$50)^2)*BDUA!J3 -> 587832.99 | AF3: =((+K3-$K$50)^2)*BDUA!K3 -> 3341583 | AG3: =((+L3-$L$50)^2)*BDUA!L3 -> 266608.8 | AH3: =((+M3-$M$50)^2)*BDUA!M3 -> 3168378.1 | AI3: =((+N3-$N$50)^2)*BDUA!N3 -> 3701462.9 | AJ3: =((+O3-$O$50)^2)*BDUA!O3 -> 1976711 | AK3: =((+P3-$P$50)^2)*BDUA!P3 -> 57120803 | AL3: =((+Q3-$Q$50)^2)*BDUA!Q3 -> 85255934 | AM3: =((+R3-$R$50)^2)*BDUA!R3 -> 1.2986999e+08 | AN3: =((+S3-$S$50)^2)*BDUA!S3 -> 66792473 | AO3: =((+T3-$T$50)^2)*BDUA!T3 -> 45964216 | AP3: =((+U3-$U$50)^2)*BDUA!U3 -> 70128983
A4: 2 | B4: =+casos!AV4 -> CCF009 | C4: =+casos!AW4 -> S | D4: =casos!AX4/BDUA!D4*100000 -> 0 | E4: =casos!AY4/BDUA!E4*100000 -> 0 | F4: =casos!AZ4/BDUA!F4*100000 -> 0 | G4: =casos!BA4/BDUA!G4*100000 -> 26.809651 | H4: =casos!BB4/BDUA!H4*100000 -> 0 | I4: =casos!BC4/BDUA!I4*100000 -> 0 | J4: =casos!BD4/BDUA!J4*100000 -> 55.299539 | K4: =casos!BE4/BDUA!K4*100000 -> 67.046597 | ... U4: =casos!BO4/BDUA!U4*100000 -> 58.542868 | W4: 2 | X4: =+B4 -> CCF009 | Y4: =((+D4-$D$50)^2)*BDUA!D4 -> 3714.9162 | Z4: =((+E4-$E$50)^2)*BDUA!E4 -> 14391.299 | AA4: =((+F4-$F$50)^2)*BDUA!F4 -> 135564.11 | AB4: =((+G4-$G$50)^2)*BDUA!G4 -> 3381711.6 | AC4: =((+H4-$H$50)^2)*BDUA!H4 -> 3002056.9 | AD4: =((+I4-$I$50)^2)*BDUA!I4 -> 5334736.6 | AE4: =((+J4-$J$50)^2)*BDUA!J4 -> 332915.81 | AF4: =((+K4-$K$50)^2)*BDUA!K4 -> 292476.97 | AG4: =((+L4-$L$50)^2)*BDUA!L4 -> 5628886.3 | AH4: =((+M4-$M$50)^2)*BDUA!M4 -> 5451377 | AI4: =((+N4-$N$50)^2)*BDUA!N4 -> 22918278 | AJ4: =((+O4-$O$50)^2)*BDUA!O4 -> 21110031 | AK4: =((+P4-$P$50)^2)*BDUA!P4 -> 39118005 | AL4: =((+Q4-$Q$50)^2)*BDUA!Q4 -> 87766716 | AM4: =((+R4-$R$50)^2)*BDUA!R4 -> 82921300 | AN4: =((+S4-$S$50)^2)*BDUA!S4 -> 9345220 | AO4: =((+T4-$T$50)^2)*BDUA!T4 -> 45300291 | AP4: =((+U4-$U$50)^2)*BDUA!U4 -> 28152919
A5: 3 | B5: =+casos!AV5 -> CCF015 | C5: =+casos!AW5 -> S | D5: =casos!AX5/BDUA!D5*100000 -> 0 | E5: =casos!AY5/BDUA!E5*100000 -> 1.681407 | F5: =casos!AZ5/BDUA!F5*100000 -> 1.4648366 | G5: =casos!BA5/BDUA!G5*100000 -> 0 | H5: =casos!BB5/BDUA!H5*100000 -> 17.706009 | I5: =casos!BC5/BDUA!I5*100000 -> 17.99856 | J5: =casos!BD5/BDUA!J5*100000 -> 27.588283 | K5: =casos!BE5/BDUA!K5*100000 -> 41.707215 | ... U5: =casos!BO5/BDUA!U5*100000 -> 35.108062 | W5: 3 | X5: =+B5 -> CCF015 | Y5: =((+D5-$D$50)^2)*BDUA!D5 -> 27446.976 | Z5: =((+E5-$E$50)^2)*BDUA!E5 -> 8438.7398 | AA5: =((+F5-$F$50)^2)*BDUA!F5 -> 410989.22 | AB5: =((+G5-$G$50)^2)*BDUA!G5 -> 6325603 | AC5: =((+H5-$H$50)^2)*BDUA!H5 -> 243244.77 | AD5: =((+I5-$I$50)^2)*BDUA!I5 -> 7830683 | AE5: =((+J5-$J$50)^2)*BDUA!J5 -> 15754104 | AF5: =((+K5-$K$50)^2)*BDUA!K5 -> 12093956 | AG5: =((+L5-$L$50)^2)*BDUA!L5 -> 9604862 | AH5: =((+M5-$M$50)^2)*BDUA!M5 -> 1.1430318e+08 | AI5: =((+N5-$N$50)^2)*BDUA!N5 -> 1.1543364e+08 | AJ5: =((+O5-$O$50)^2)*BDUA!O5 -> 63148583 | AK5: =((+P5-$P$50)^2)*BDUA!P5 -> 2.6366436e+08 | AL5: =((+Q5-$Q$50)^2)*BDUA!Q5 -> 2.7714193e+08 | AM5: =((+R5-$R$50)^2)*BDUA!R5 -> 1.0467045e+08 | AN5: =((+S5-$S$50)^2)*BDUA!S5 -> 4.5328525e+08 | AO5: =((+T5-$T$50)^2)*BDUA!T5 -> 5.8667369e+08 | AP5: =((+U5-$U$50)^2)*BDUA!U5 -> 9.9393344e+08
A6: 4 | B6: =+casos!AV6 -> CCF023 | C6: =+casos!AW6 -> S | D6: =casos!AX6/BDUA!D6*100000 -> 0 | E6: =casos!AY6/BDUA!E6*100000 -> 0 | F6: =casos!AZ6/BDUA!F6*100000 -> 0 | G6: =casos!BA6/BDUA!G6*100000 -> 5.899705 | H6: =casos!BB6/BDUA!H6*100000 -> 0 | I6: =casos!BC6/BDUA!I6*100000 -> 7.4432453 | J6: =casos!BD6/BDUA!J6*100000 -> 33.263111 | K6: =casos!BE6/BDUA!K6*100000 -> 68.147744 | ... U6: =casos!BO6/BDUA!U6*100000 -> 32.32351 | W6: 4 | X6: =+B6 -> CCF023 | Y6: =((+D6-$D$50)^2)*BDUA!D6 -> 7761.1691 | Z6: =((+E6-$E$50)^2)*BDUA!E6 -> 27163.705 | AA6: =((+F6-$F$50)^2)*BDUA!F6 -> 273584.93 | AB6: =((+G6-$G$50)^2)*BDUA!G6 -> 210710.58 | AC6: =((+H6-$H$50)^2)*BDUA!H6 -> 5058340.7 | AD6: =((+I6-$I$50)^2)*BDUA!I6 -> 7150040 | AE6: =((+J6-$J$50)^2)*BDUA!J6 -> 1819288.1 | AF6: =((+K6-$K$50)^2)*BDUA!K6 -> 481720.38 | AG6: =((+L6-$L$50)^2)*BDUA!L6 -> 14512199 | AH6: =((+M6-$M$50)^2)*BDUA!M6 -> 9548576.6 | AI6: =((+N6-$N$50)^2)*BDUA!N6 -> 181768.52 | AJ6: =((+O6-$O$50)^2)*BDUA!O6 -> 8434667.2 | AK6: =((+P6-$P$50)^2)*BDUA!P6 -> 56085254 | AL6: =((+Q6-$Q$50)^2)*BDUA!Q6 -> 58964903 | AM6: =((+R6-$R$50)^2)*BDUA!R6 -> 31000278 | AN6: =((+S6-$S$50)^2)*BDUA!S6 -> 54883693 | AO6: =((+T6-$T$50)^2)*BDUA!T6 -> 1.5244743e+08 | AP6: =((+U6-$U$50)^2)*BDUA!U6 -> 2.6627401e+08
A7: 5 | B7: =+casos!AV7 -> CCF024 | C7: =+casos!AW7 -> S | D7: =casos!AX7/BDUA!D7*100000 -> 0 | E7: =casos!AY7/BDUA!E7*100000 -> 1.9899309 | F7: =casos!AZ7/BDUA!F7*100000 -> 6.6207627 | G7: =casos!BA7/BDUA!G7*100000 -> 7.8411693 | H7: =casos!BB7/BDUA!H7*100000 -> 20.399374 | I7: =casos!BC7/BDUA!I7*100000 -> 31.57925 | J7: =casos!BD7/BDUA!J7*100000 -> 49.399487 | K7: =casos!BE7/BDUA!K7*100000 -> 52.333759 | ... U7: =casos!BO7/BDUA!U7*100000 -> 69.842078 | W7: 5 | X7: =+B7 -> CCF024 | Y7: =((+D7-$D$50)^2)*BDUA!D7 -> 26952.582 | Z7: =((+E7-$E$50)^2)*BDUA!E7 -> 23594.166 | AA7: =((+F7-$F$50)^2)*BDUA!F7 -> 441180.71 | AB7: =((+G7-$G$50)^2)*BDUA!G7 -> 160061.35 | AC7: =((+H7-$H$50)^2)*BDUA!H7 -> 16853.333 | AD7: =((+I7-$I$50)^2)*BDUA!I7 -> 39631.129 | AE7: =((+J7-$J$50)^2)*BDUA!J7 -> 121103.24 | AF7: =((+K7-$K$50)^2)*BDUA!K7 -> 1817916 | AG7: =((+L7-$L$50)^2)*BDUA!L7 -> 170602.07 | AH7: =((+M7-$M$50)^2)*BDUA!M7 -> 49872106 | AI7: =((+N7-$N$50)^2)*BDUA!N7 -> 3296063.1 | AJ7: =((+O7-$O$50)^2)*BDUA!O7 -> 1037508.3 | AK7: =((+P7-$P$50)^2)*BDUA!P7 -> 894513.59 | AL7: =((+Q7-$Q$50)^2)*BDUA!Q7 -> 17326565 | AM7: =((+R7-$R$50)^2)*BDUA!R7 -> 4521447.1 | AN7: =((+S7-$S$50)^2)*BDUA!S7 -> 83594460 | AO7: =((+T7-$T$50)^2)*BDUA!T7 -> 28526868 | AP7: =((+U7-$U$50)^2)*BDUA!U7 -> 14858511
A8: 6 | B8: =+casos!AV8 -> CCF027 | C8: =+casos!AW8 -> S | D8: =casos!AX8/BDUA!D8*100000 -> 0 | E8: =casos!AY8/BDUA!E8*100000 -> 0 | F8: =casos!AZ8/BDUA!F8*100000 -> 10.547411 | G8: =casos!BA8/BDUA!G8*100000 -> 0 | H8: =casos!BB8/BDUA!H8*100000 -> 0 | I8: =casos!BC8/BDUA!I8*100000 -> 34.015919 | J8: =casos!BD8/BDUA!J8*100000 -> 29.340571 | K8: =casos!BE8/BDUA!K8*100000 -> 94.854162 | ... U8: =casos!BO8/BDUA!U8*100000 -> 47.152938 | W8: 6 | X8: =+B8 -> CCF027 | Y8: =((+D8-$D$50)^2)*BDUA!D8 -> 7226.1562 | Z8: =((+E8-$E$50)^2)*BDUA!E8 -> 24349.792 | AA8: =((+F8-$F$50)^2)*BDUA!F8 -> 833244.21 | AB8: =((+G8-$G$50)^2)*BDUA!G8 -> 1864845.5 | AC8: =((+H8-$H$50)^2)*BDUA!H8 -> 6406762 | AD8: =((+I8-$I$50)^2)*BDUA!I8 -> 180404.72 | AE8: =((+J8-$J$50)^2)*BDUA!J8 -> 4478782.6 | AF8: =((+K8-$K$50)^2)*BDUA!K8 -> 15329036 | AG8: =((+L8-$L$50)^2)*BDUA!L8 -> 5176836.9 | AH8: =((+M8-$M$50)^2)*BDUA!M8 -> 4333906.4 | AI8: =((+N8-$N$50)^2)*BDUA!N8 -> 30507978 | AJ8: =((+O8-$O$50)^2)*BDUA!O8 -> 59063127 | AK8: =((+P8-$P$50)^2)*BDUA!P8 -> 49867368 | AL8: =((+Q8-$Q$50)^2)*BDUA!Q8 -> 16076728 | AM8: =((+R8-$R$50)^2)*BDUA!R8 -> 21704174 | AN8: =((+S8-$S$50)^2)*BDUA!S8 -> 1.2519215e+08 | AO8: =((+T8-$T$50)^2)*BDUA!T8 -> 1.258925e+08 | AP8: =((+U8-$U$50)^2)*BDUA!U8 -> 1.4427858e+08
A9: 7 | B9: =+casos!AV9 -> CCF033 | C9: =+casos!AW9 -> S | D9: =casos!AX9/BDUA!D9*100000 -> 0 | E9: =casos!AY9/BDUA!E9*100000 -> 0 | F9: =casos!AZ9/BDUA!F9*100000 -> 0 | G9: =casos!BA9/BDUA!G9*100000 -> 0 | H9: =casos!BB9/BDUA!H9*100000 -> 21.274333 | I9: =casos!BC9/BDUA!I9*100000 -> 51.000893 | J9: =casos!BD9/BDUA!J9*100000 -> 15.52072 | K9: =casos!BE9/BDUA!K9*100000 -> 88.090204 | ... U9: =casos!BO9/BDUA!U9*100000 -> 58.261247 | W9: 7 | X9: =+B9 -> CCF033 | Y9: =((+D9-$D$50)^2)*BDUA!D9 -> 3836.1936 | Z9: =((+E9-$E$50)^2)*BDUA!E9 -> 16711.543 | AA9: =((+F9-$F$50)^2)*BDUA!F9 -> 164630.01 | AB9: =((+G9-$G$50)^2)*BDUA!G9 -> 927492.14 | AC9: =((+H9-$H$50)^2)*BDUA!H9 -> 20955.775 | AD9: =((+I9-$I$50)^2)*BDUA!I9 -> 3292257.9 | AE9: =((+J9-$J$50)^2)*BDUA!J9 -> 6575018.1 | AF9: =((+K9-$K$50)^2)*BDUA!K9 -> 4464400.4 | AG9: =((+L9-$L$50)^2)*BDUA!L9 -> 5702386.7 | AH9: =((+M9-$M$50)^2)*BDUA!M9 -> 26446910 | AI9: =((+N9-$N$50)^2)*BDUA!N9 -> 45998342 | AJ9: =((+O9-$O$50)^2)*BDUA!O9 -> 10309.677 | AK9: =((+P9-$P$50)^2)*BDUA!P9 -> 23452637 | AL9: =((+Q9-$Q$50)^2)*BDUA!Q9 -> 1.0058889e+08 | AM9: =((+R9-$R$50)^2)*BDUA!R9 -> 8534068 | AN9: =((+S9-$S$50)^2)*BDUA!S9 -> 2970882.4 | AO9: =((+T9-$T$50)^2)*BDUA!T9 -> 24748995 | AP9: =((+U9-$U$50)^2)*BDUA!U9 -> 28770895
A10: 8 | B10: =+casos!AV10 -> CCF049 | C10: =+casos!AW10 -> S | D10: =casos!AX10/BDUA!D10*100000 -> 0 | E10: =casos!AY10/BDUA!E10*100000 -> 0 | F10: =casos!AZ10/BDUA!F10*100000 -> 9.2885008 | G10: =casos!BA10/BDUA!G10*100000 -> 8.1980653 | H10: =casos!BB10/BDUA!H10*100000 -> 10.974539 | I10: =casos!BC10/BDUA!I10*100000 -> 71.002556 | J10: =casos!BD10/BDUA!J10*100000 -> 14.594279 | K10: =casos!BE10/BDUA!K10*100000 -> 14.630578 | ... U10: =casos!BO10/BDUA!U10*100000 -> 39.778001 | W10: 8 | X10: =+B10 -> CCF049 | Y10: =((+D10-$D$50)^2)*BDUA!D10 -> 3451.4717 | Z10: =((+E10-$E$50)^2)*BDUA!E10 -> 14270.436 | AA10: =((+F10-$F$50)^2)*BDUA!F10 -> 310461.55 | AB10: =((+G10-$G$50)^2)*BDUA!G10 -> 18377.765 | AC10: =((+H10-$H$50)^2)*BDUA!H10 -> 706720.4 | AD10: =((+I10-$I$50)^2)*BDUA!I10 -> 11544914 | AE10: =((+J10-$J$50)^2)*BDUA!J10 -> 7403853.2 | AF10: =((+K10-$K$50)^2)*BDUA!K10 -> 14096910 | AG10: =((+L10-$L$50)^2)*BDUA!L10 -> 6625006.6 | AH10: =((+M10-$M$50)^2)*BDUA!M10 -> 3990039.2 | AI10: =((+N10-$N$50)^2)*BDUA!N10 -> 15181290 | AJ10: =((+O10-$O$50)^2)*BDUA!O10 -> 55377970 | AK10: =((+P10-$P$50)^2)*BDUA!P10 -> 85832801 | AL10: =((+Q10-$Q$50)^2)*BDUA!Q10 -> 80876058 | AM10: =((+R10-$R$50)^2)*BDUA!R10 -> 1.6867322e+08 | AN10: =((+S10-$S$50)^2)*BDUA!S10 -> 1.8306636e+08 | AO10: =((+T10-$T$50)^2)*BDUA!T10 -> 76652861 | AP10: =((+U10-$U$50)^2)*BDUA!U10 -> 1.3185834e+08
A11: 9 | B11: =+casos!AV11 -> CCF053 | C11: =+casos!AW11 -> S | D11: =casos!AX11/BDUA!D11*100000 -> 0 | E11: =casos!AY11/BDUA!E11*100000 -> 0 | F11: =casos!AZ11/BDUA!F11*100000 -> 0 | G11: =casos!BA11/BDUA!G11*100000 -> 6.7953248 | H11: =casos!BB11/BDUA!H11*100000 -> 52.681488 | I11: =casos!BC11/BDUA!I11*100000 -> 64.956155 | J11: =casos!BD11/BDUA!J11*100000 -> 88.443396 | K11: =casos!BE11/BDUA!K11*100000 -> 64.43299 | ... U11: =casos!BO11/BDUA!U11*100000 -> 117.44843 | W11: 9 | X11: =+B11 -> CCF053 | Y11: =((+D11-$D$50)^2)*BDUA!D11 -> 2971.0046 | Z11: =((+E11-$E$50)^2)*BDUA!E11 -> 10853.906 | AA11: =((+F11-$F$50)^2)*BDUA!F11 -> 122881.37 | AB11: =((+G11-$G$50)^2)*BDUA!G11 -> 101803.45 | AC11: =((+H11-$H$50)^2)*BDUA!H11 -> 10273261 | AD11: =((+I11-$I$50)^2)*BDUA!I11 -> 10958395 | AE11: =((+J11-$J$50)^2)*BDUA!J11 -> 11391427 | AF11: =((+K11-$K$50)^2)*BDUA!K11 -> 119537.86 | AG11: =((+L11-$L$50)^2)*BDUA!L11 -> 171750.17 | AH11: =((+M11-$M$50)^2)*BDUA!M11 -> 68016837 | AI11: =((+N11-$N$50)^2)*BDUA!N11 -> 10468821 | AJ11: =((+O11-$O$50)^2)*BDUA!O11 -> 87335756 | AK11: =((+P11-$P$50)^2)*BDUA!P11 -> 470.82792 | AL11: =((+Q11-$Q$50)^2)*BDUA!Q11 -> 7580523.1 | AM11: =((+R11-$R$50)^2)*BDUA!R11 -> 25919052 | AN11: =((+S11-$S$50)^2)*BDUA!S11 -> 2.5657322e+08 | AO11: =((+T11-$T$50)^2)*BDUA!T11 -> 69608932 | AP11: =((+U11-$U$50)^2)*BDUA!U11 -> 1.9529661e+08
A12: 10 | B12: =+casos!AV12 -> CCF055 | C12: =+casos!AW12 -> S | D12: =casos!AX12/BDUA!D12*100000 -> 0 | E12: =casos!AY12/BDUA!E12*100000 -> 0 | F12: =casos!AZ12/BDUA!F12*100000 -> 1.3677084 | G12: =casos!BA12/BDUA!G12*100000 -> 2.5482252 | H12: =casos!BB12/BDUA!H12*100000 -> 9.0126628 | I12: =casos!BC12/BDUA!I12*100000 -> 13.18435 | J12: =casos!BD12/BDUA!J12*100000 -> 25.245088 | K12: =casos!BE12/BDUA!K12*100000 -> 18.781547 | ... U12: =casos!BO12/BDUA!U12*100000 -> 30.449065 | W12: 10 | X12: =+B12 -> CCF055 | Y12: =((+D12-$D$50)^2)*BDUA!D12 -> 30462.081 | Z12: =((+E12-$E$50)^2)*BDUA!E12 -> 98641.854 | AA12: =((+F12-$F$50)^2)*BDUA!F12 -> 475714.59 | AB12: =((+G12-$G$50)^2)*BDUA!G12 -> 3712156.3 | AC12: =((+H12-$H$50)^2)*BDUA!H12 -> 7720063.1 | AD12: =((+I12-$I$50)^2)*BDUA!I12 -> 18219671 | AE12: =((+J12-$J$50)^2)*BDUA!J12 -> 23470458 | AF12: =((+K12-$K$50)^2)*BDUA!K12 -> 72524936 | AG12: =((+L12-$L$50)^2)*BDUA!L12 -> 70321580 | AH12: =((+M12-$M$50)^2)*BDUA!M12 -> 1.3182863e+08 | AI12: =((+N12-$N$50)^2)*BDUA!N12 -> 1.2288391e+08 | AJ12: =((+O12-$O$50)^2)*BDUA!O12 -> 1.3493048e+08 | AK12: =((+P12-$P$50)^2)*BDUA!P12 -> 2.0324973e+08 | AL12: =((+Q12-$Q$50)^2)*BDUA!Q12 -> 4.6757017e+08 | AM12: =((+R12-$R$50)^2)*BDUA!R12 -> 2.0490084e+08 | AN12: =((+S12-$S$50)^2)*BDUA!S12 -> 2.6115391e+08 | AO12: =((+T12-$T$50)^2)*BDUA!T12 -> 1.4219083e+08 | AP12: =((+U12-$U$50)^2)*BDUA!U12 -> 1.3629358e+09
A13: 11 | B13: =+casos!AV13 -> CCF102 | C13: =+casos!AW13 -> S | D13: =casos!AX13/BDUA!D13*100000 -> 0 | E13: =casos!AY13/BDUA!E13*100000 -> 0 | F13: =casos!AZ13/BDUA!F13*100000 -> 0 | G13: =casos!BA13/BDUA!G13*100000 -> 5.5398593 | H13: =casos!BB13/BDUA!H13*100000 -> 13.862896 | I13: =casos!BC13/BDUA!I13*100000 -> 0 | J13: =casos!BD13/BDUA!J13*100000 -> 9.8667982 | K13: =casos!BE13/BDUA!K13*100000 -> 0 | ... U13: =casos!BO13/BDUA!U13*100000 -> 17.848761 | W13: 11 | X13: =+B13 -> CCF102 | Y13: =((+D13-$D$50)^2)*BDUA!D13 -> 9127.1349 | Z13: =((+E13-$E$50)^2)*BDUA!E13 -> 32044.218 | AA13: =((+F13-$F$50)^2)*BDUA!F13 -> 300854.37 | AB13: =((+G13-$G$50)^2)*BDUA!G13 -> 272539.11 | AC13: =((+H13-$H$50)^2)*BDUA!H13 -> 505344.43 | AD13: =((+I13-$I$50)^2)*BDUA!I13 -> 11774592 | AE13: =((+J13-$J$50)^2)*BDUA!J13 -> 14327721 | AF13: =((+K13-$K$50)^2)*BDUA!K13 -> 28374406 | AG13: =((+L13-$L$50)^2)*BDUA!L13 -> 23924504 | AH13: =((+M13-$M$50)^2)*BDUA!M13 -> 5755441.6 | AI13: =((+N13-$N$50)^2)*BDUA!N13 -> 46803533 | AJ13: =((+O13-$O$50)^2)*BDUA!O13 -> 88853914 | AK13: =((+P13-$P$50)^2)*BDUA!P13 -> 69167045 | AL13: =((+Q13-$Q$50)^2)*BDUA!Q13 -> 2787069.8 | AM13: =((+R13-$R$50)^2)*BDUA!R13 -> 50372035 | AN13: =((+S13-$S$50)^2)*BDUA!S13 -> 60134079 | AO13: =((+T13-$T$50)^2)*BDUA!T13 -> 1.6707928e+08 | AP13: =((+U13-$U$50)^2)*BDUA!U13 -> 4.9611101e+08
A14: 12 | B14: =+casos!AV14 -> EAS016 | C14: =+casos!AW14 -> C | D14: =casos!AX14/BDUA!D14*100000 -> 0 | E14: =casos!AY14/BDUA!E14*100000 -> 0 | F14: =casos!AZ14/BDUA!F14*100000 -> 0 | G14: =casos!BA14/BDUA!G14*100000 -> 0 | H14: =casos!BB14/BDUA!H14*100000 -> 0 | I14: =casos!BC14/BDUA!I14*100000 -> 0 | J14: =casos!BD14/BDUA!J14*100000 -> 0 | K14: =casos!BE14/BDUA!K14*100000 -> 0 | ... U14: =casos!BO14/BDUA!U14*100000 -> 172.01835 | W14: 12 | X14: =+B14 -> EAS016 | Y14: =((+D14-$D$50)^2)*BDUA!D14 -> 51.644415 | Z14: =((+E14-$E$50)^2)*BDUA!E14 -> 291.09442 | AA14: =((+F14-$F$50)^2)*BDUA!F14 -> 6510.2711 | AB14: =((+G14-$G$50)^2)*BDUA!G14 -> 75958.408 | AC14: =((+H14-$H$50)^2)*BDUA!H14 -> 386996.13 | AD14: =((+I14-$I$50)^2)*BDUA!I14 -> 99618.991 | AE14: =((+J14-$J$50)^2)*BDUA!J14 -> 164469.38 | AF14: =((+K14-$K$50)^2)*BDUA!K14 -> 277614.9 | AG14: =((+L14-$L$50)^2)*BDUA!L14 -> 1045022.1 | AH14: =((+M14-$M$50)^2)*BDUA!M14 -> 7547697.7 | AI14: =((+N14-$N$50)^2)*BDUA!N14 -> 8248235.4 | AJ14: =((+O14-$O$50)^2)*BDUA!O14 -> 18701403 | AK14: =((+P14-$P$50)^2)*BDUA!P14 -> 1582984.2 | AL14: =((+Q14-$Q$50)^2)*BDUA!Q14 -> 1.0492974e+08 | AM14: =((+R14-$R$50)^2)*BDUA!R14 -> 33274964 | AN14: =((+S14-$S$50)^2)*BDUA!S14 -> 22374777 | AO14: =((+T14-$T$50)^2)*BDUA!T14 -> 15867243 | AP14: =((+U14-$U$50)^2)*BDUA!U14 -> 98256210
... A49: 47 | B49: =+casos!AV49 -> ESS207 | C49: =+casos!AW49 -> S | D49: =casos!AX49/BDUA!D49*100000 -> 0.80007681 | E49: =casos!AY49/BDUA!E49*100000 -> 0 | F49: =casos!AZ49/BDUA!F49*100000 -> 2.3860654 | G49: =casos!BA49/BDUA!G49*100000 -> 7.261795 | H49: =casos!BB49/BDUA!H49*100000 -> 21.621427 | I49: =casos!BC49/BDUA!I49*100000 -> 22.715376 | J49: =casos!BD49/BDUA!J49*100000 -> 41.445051 | K49: =casos!BE49/BDUA!K49*100000 -> 52.510105 | ... U49: =casos!BO49/BDUA!U49*100000 -> 58.808367 | W49: 47 | X49: =+B49 -> ESS207 | Y49: =((+D49-$D$50)^2)*BDUA!D49 -> 183.52956 | Z49: =((+E49-$E$50)^2)*BDUA!E49 -> 213950.99 | AA49: =((+F49-$F$50)^2)*BDUA!F49 -> 295247.5 | AB49: =((+G49-$G$50)^2)*BDUA!G49 -> 644697.87 | AC49: =((+H49-$H$50)^2)*BDUA!H49 -> 375850.58 | AD49: =((+I49-$I$50)^2)*BDUA!I49 -> 6155844 | AE49: =((+J49-$J$50)^2)*BDUA!J49 -> 3673519.1 | AF49: =((+K49-$K$50)^2)*BDUA!K49 -> 4649077.7 | AG49: =((+L49-$L$50)^2)*BDUA!L49 -> 10260003 | AH49: =((+M49-$M$50)^2)*BDUA!M49 -> 35909256 | AI49: =((+N49-$N$50)^2)*BDUA!N49 -> 64845327 | AJ49: =((+O49-$O$50)^2)*BDUA!O49 -> 38250.224 | AK49: =((+P49-$P$50)^2)*BDUA!P49 -> 8281667.3 | AL49: =((+Q49-$Q$50)^2)*BDUA!Q49 -> 25425215 | AM49: =((+R49-$R$50)^2)*BDUA!R49 -> 83388858 | AN49: =((+S49-$S$50)^2)*BDUA!S49 -> 29774615 | AO49: =((+T49-$T$50)^2)*BDUA!T49 -> 75371344 | AP49: =((+U49-$U$50)^2)*BDUA!U49 -> 3.5185192e+08
B50: promedio agregado pais (Promedio Ponderado) | D50: =casos!AX50/BDUA!D50*100000 -> 0.76175739 | E50: =casos!AY50/BDUA!E50*100000 -> 1.3047247 | F50: =casos!AZ50/BDUA!F50*100000 -> 3.9184707 | G50: =casos!BA50/BDUA!G50*100000 -> 9.4255102 | H50: =casos!BB50/BDUA!H50*100000 -> 19.781315 | I50: =casos!BC50/BDUA!I50*100000 -> 30.512597 | J50: =casos!BD50/BDUA!J50*100000 -> 47.465832 | K50: =casos!BE50/BDUA!K50*100000 -> 60.044886 | ... U50: =casos!BO50/BDUA!U50*100000 -> 75.116706 | Y50: =SUM(Y3:Y49) -> 2425826.7 | Z50: =SUM(Z3:Z49) -> 3719386 | AA50: =SUM(AA3:AA49) -> 20160450 | AB50: =SUM(AB3:AB49) -> 72334152 | AC50: =SUM(AC3:AC49) -> 2.9735e+08 | AD50: =SUM(AD3:AD49) -> 9.6278581e+08 | AE50: =SUM(AE3:AE49) -> 1.4390242e+09 | AF50: =SUM(AF3:AF49) -> 2.5211949e+09 | ... AP50: =SUM(AP3:AP49) -> 6.7748863e+10
X51: DESVIACION ESTANDAR
D53: 0-4 | E53: 5-9 | F53: 10-14 | G53: 15-19 | H53: 20-24 | I53: 25-29 | J53: 30-34 | K53: 35-39 | L53: 40-44 | M53: 45-49 | N53: 50-54 | O53: 55-59 | P53: 60-64 | Q53: 65-69 | R53: 70-74 | S53: 75-79 | T53: 80 o mas | U53: Total
B54: PROMEDIO | D54: =D50 -> 0.76175739 | E54: =E50 -> 1.3047247 | F54: =F50 -> 3.9184707 | G54: =G50 -> 9.4255102 | H54: =H50 -> 19.781315 | I54: =I50 -> 30.512597 | J54: =J50 -> 47.465832 | K54: =K50 -> 60.044886 | ... U54: =U50 -> 75.116706
B55: INTERVALO DE CONFIANZA | C55: minimo | D55: =D54 -> 0.76175739 | E55: =E54 -> 1.3047247 | F55: =F54 -> 3.9184707 | G55: =G54 -> 9.4255102 | H55: =H54 -> 19.781315 | I55: =I54 -> 30.512597 | J55: =J54 -> 47.465832 | K55: =K54 -> 60.044886 | ... U55: =U54 -> 75.116706
C56: maximo | D56: =D55 -> 0.76175739 | E56: =E55 -> 1.3047247 | F56: =F55 -> 3.9184707 | G56: =G55 -> 9.4255102 | H56: =H55 -> 19.781315 | I56: =I55 -> 30.512597 | J56: =J55 -> 47.465832 | K56: =K55 -> 60.044886 | ... U56: =U55 -> 75.116706
B57: DESVIACION STANDARD | D57: =(+Y50/BDUA!D50)^0.5 -> 0.89634316 | E57: =(+Z50/BDUA!E50)^0.5 -> 1.0271081 | F57: =(+AA50/BDUA!F50)^0.5 -> 2.2948948 | G57: =(+AB50/BDUA!G50)^0.5 -> 4.2136506 | H57: =(+AC50/BDUA!H50)^0.5 -> 8.7858558 | I57: =(+AD50/BDUA!I50)^0.5 -> 16.508022 | J57: =(+AE50/BDUA!J50)^0.5 -> 20.785414 | K57: =(+AF50/BDUA!K50)^0.5 -> 28.613617 | ... U57: =(+AP50/BDUA!U50)^0.5 -> 39.3017
B63: VALOR ESTANDAR TRR | C63: =C66*12 -> 29081100
C66: 2423425

Sheet DESVIACION
B1: DIFERENCIA ENTRE LA PREVALENCIA DE LA EPS Y EL PROMEDIO PONDERADO DE LA PREVALENCIA (LIMITES INFERIOR Y SUPERIOR DE LA DISTRIBUCION DEL GRUPO ETAREO)
D2: 0-4 | E2: 5-9 | F2: 10-14 | G2: 15-19 | H2: 20-24 | I2: 25-29 | J2: 30-34 | K2: 35-39 | L2: 40-44 | M2: 45-49 | N2: 50-54 | O2: 55-59 | P2: 60-64 | Q2: 65-69 | R2: 70-74 | S2: 75-79 | T2: 80 o mas
A3: =+casos!AU3 -> 1 | B3: =+casos!AV3 -> CCF007 | C3: =+casos!AW3 -> S | D3: =IF(CALCULOS!D3<CALCULOS!$D$55,CALCULOS!D3-CALCULOS!$D$55,IF(CALCULOS!D3>CALCULOS!$D$56,CALCULOS!D3-CALCULOS!$D$56,0)) -> -0.76175739 | E3: =IF(CALCULOS!E3<CALCULOS!$E$55,CALCULOS!E3-CALCULOS!$E$55,IF(CALCULOS!E3>CALCULOS!$E$56,CALCULOS!E3-CALCULOS!$E$56,0)) -> -1.3047247 | F3: =IF(CALCULOS!F3<CALCULOS!$F$55,CALCULOS!F3-CALCULOS!$F$55,IF(CALCULOS!F3>CALCULOS!$F$56,CALCULOS!F3-CALCULOS!$F$56,0)) -> 0.28851286 | G3: =IF(CALCULOS!G3<CALCULOS!$G$55,CALCULOS!G3-CALCULOS!$G$55,IF(CALCULOS!G3>CALCULOS!$G$56,CALCULOS!G3-CALCULOS!$G$56,0)) -> 11.725082 | H3: =IF(CALCULOS!H3<CALCULOS!$H$55,CALCULOS!H3-CALCULOS!$H$55,IF(CALCULOS!H3>CALCULOS!$H$56,CALCULOS!H3-CALCULOS!$H$56,0)) -> -8.4914479 | I3: =IF(CALCULOS!I3<CALCULOS!$I$55,CALCULOS!I3-CALCULOS!$I$55,IF(CALCULOS!I3>CALCULOS!$I$56,CALCULOS!I3-CALCULOS!$I$56,0)) -> 34.203013 | J3: =IF(CALCULOS!J3<CALCULOS!$J$55,CALCULOS!J3-CALCULOS!$J$55,IF(CALCULOS!J3>CALCULOS!$J$56,CALCULOS!J3-CALCULOS!$J$56,0)) -> 6.7473031 | K3: =IF(CALCULOS!K3<CALCULOS!$K$55,CALCULOS!K3-CALCULOS!$K$55,IF(CALCULOS!K3>CALCULOS!$K$56,CALCULOS!K3-CALCULOS!$K$56,0)) -> -16.967433 | L3: =IF(CALCULOS!L3<CALCULOS!$L$55,CALCULOS!L3-CALCULOS!$L$55,IF(CALCULOS!L3>CALCULOS!$L$56,CALCULOS!L3-CALCULOS!$L$56,0)) -> 4.9146438 | M3: =IF(CALCULOS!M3<CALCULOS!$M$55,CALCULOS!M3-CALCULOS!$M$55,IF(CALCULOS!M3>CALCULOS!$M$56,CALCULOS!M3-CALCULOS!$M$56,0)) -> 16.530391 | N3: =IF(CALCULOS!N3<CALCULOS!$N$55,CALCULOS!N3-CALCULOS!$N$55,IF(CALCULOS!N3>CALCULOS!$N$56,CALCULOS!N3-CALCULOS!$N$56,0)) -> 18.390717 | O3: =IF(CALCULOS!O3<CALCULOS!$O$55,CALCULOS!O3-CALCULOS!$O$55,IF(CALCULOS!O3>CALCULOS!$O$56,CALCULOS!O3-CALCULOS!$O$56,0)) -> -14.52607 | P3: =IF(CALCULOS!P3<CALCULOS!$P$55,CALCULOS!P3-CALCULOS!$P$55,IF(CALCULOS!P3>CALCULOS!$P$56,CALCULOS!P3-CALCULOS!$P$56,0)) -> -89.594053 | Q3: =IF(CALCULOS!Q3<CALCULOS!$Q$55,CALCULOS!Q3-CALCULOS!$Q$55,IF(CALCULOS!Q3>CALCULOS!$Q$56,CALCULOS!Q3-CALCULOS!$Q$56,0)) -> -122.01092 | R3: =IF(CALCULOS!R3<CALCULOS!$R$55,CALCULOS!R3-CALCULOS!$R$55,IF(CALCULOS!R3>CALCULOS!$R$56,CALCULOS!R3-CALCULOS!$R$56,0)) -> -176.1808 | S3: =IF(CALCULOS!S3<CALCULOS!$S$55,CALCULOS!S3-CALCULOS!$S$55,IF(CALCULOS!S3>CALCULOS!$S$56,CALCULOS!S3-CALCULOS!$S$56,0)) -> -132.77046 | T3: =IF(CALCULOS!T3<CALCULOS!$T$55,CALCULOS!T3-CALCULOS!$T$55,IF(CALCULOS!T3>CALCULOS!$T$56,CALCULOS!T3-CALCULOS!$T$56,0)) -> -95.898497
A4: =+casos!AU4 -> 2 | B4: =+casos!AV4 -> CCF009 | C4: =+casos!AW4 -> S | D4: =IF(CALCULOS!D4<CALCULOS!$D$55,CALCULOS!D4-CALCULOS!$D$55,IF(CALCULOS!D4>CALCULOS!$D$56,CALCULOS!D4-CALCULOS!$D$56,0)) -> -0.76175739 | E4: =IF(CALCULOS!E4<CALCULOS!$E$55,CALCULOS!E4-CALCULOS!$E$55,IF(CALCULOS!E4>CALCULOS!$E$56,CALCULOS!E4-CALCULOS!$E$56,0)) -> -1.3047247 | F4: =IF(CALCULOS!F4<CALCULOS!$F$55,CALCULOS!F4-CALCULOS!$F$55,IF(CALCULOS!F4>CALCULOS!$F$56,CALCULOS!F4-CALCULOS!$F$56,0)) -> -3.9184707 | G4: =IF(CALCULOS!G4<CALCULOS!$G$55,CALCULOS!G4-CALCULOS!$G$55,IF(CALCULOS!G4>CALCULOS!$G$56,CALCULOS!G4-CALCULOS!$G$56,0)) -> 17.384141 | H4: =IF(CALCULOS!H4<CALCULOS!$H$55,CALCULOS!H4-CALCULOS!$H$55,IF(CALCULOS!H4>CALCULOS!$H$56,CALCULOS!H4-CALCULOS!$H$56,0)) -> -19.781315 | I4: =IF(CALCULOS!I4<CALCULOS!$I$55,CALCULOS!I4-CALCULOS!$I$55,IF(CALCULOS!I4>CALCULOS!$I$56,CALCULOS!I4-CALCULOS!$I$56,0)) -> -30.512597 | J4: =IF(CALCULOS!J4<CALCULOS!$J$55,CALCULOS!J4-CALCULOS!$J$55,IF(CALCULOS!J4>CALCULOS!$J$56,CALCULOS!J4-CALCULOS!$J$56,0)) -> 7.8337072 | K4: =IF(CALCULOS!K4<CALCULOS!$K$55,CALCULOS!K4-CALCULOS!$K$55,IF(CALCULOS!K4>CALCULOS!$K$56,CALCULOS!K4-CALCULOS!$K$56,0)) -> 7.0017115 | L4: =IF(CALCULOS!L4<CALCULOS!$L$55,CALCULOS!L4-CALCULOS!$L$55,IF(CALCULOS!L4>CALCULOS!$L$56,CALCULOS!L4-CALCULOS!$L$56,0)) -> 29.166255 | M4: =IF(CALCULOS!M4<CALCULOS!$M$55,CALCULOS!M4-CALCULOS!$M$55,IF(CALCULOS!M4>CALCULOS!$M$56,CALCULOS!M4-CALCULOS!$M$56,0)) -> -28.694015 | N4: =IF(CALCULOS!N4<CALCULOS!$N$55,CALCULOS!N4-CALCULOS!$N$55,IF(CALCULOS!N4>CALCULOS!$N$56,CALCULOS!N4-CALCULOS!$N$56,0)) -> -59.558139 | O4: =IF(CALCULOS!O4<CALCULOS!$O$55,CALCULOS!O4-CALCULOS!$O$55,IF(CALCULOS!O4>CALCULOS!$O$56,CALCULOS!O4-CALCULOS!$O$56,0)) -> -61.184778 | P4: =IF(CALCULOS!P4<CALCULOS!$P$55,CALCULOS!P4-CALCULOS!$P$55,IF(CALCULOS!P4>CALCULOS!$P$56,CALCULOS!P4-CALCULOS!$P$56,0)) -> -92.166592 | Q4: =IF(CALCULOS!Q4<CALCULOS!$Q$55,CALCULOS!Q4-CALCULOS!$Q$55,IF(CALCULOS!Q4>CALCULOS!$Q$56,CALCULOS!Q4-CALCULOS!$Q$56,0)) -> -150.36168 | R4: =IF(CALCULOS!R4<CALCULOS!$R$55,CALCULOS!R4-CALCULOS!$R$55,IF(CALCULOS!R4>CALCULOS!$R$56,CALCULOS!R4-CALCULOS!$R$56,0)) -> -164.75077 | S4: =IF(CALCULOS!S4<CALCULOS!$S$55,CALCULOS!S4-CALCULOS!$S$55,IF(CALCULOS!S4>CALCULOS!$S$56,CALCULOS!S4-CALCULOS!$S$56,0)) -> -59.99878 | T4: =IF(CALCULOS!T4<CALCULOS!$T$55,CALCULOS!T4-CALCULOS!$T$55,IF(CALCULOS!T4>CALCULOS!$T$56,CALCULOS!T4-CALCULOS!$T$56,0)) -> -116.37305
A5: =+casos!AU5 -> 3 | B5: =+casos!AV5 -> CCF015 | C5: =+casos!AW5 -> S | D5: =IF(CALCULOS!D5<CALCULOS!$D$55,CALCULOS!D5-CALCULOS!$D$55,IF(CALCULOS!D5>CALCULOS!$D$56,CALCULOS!D5-CALCULOS!$D$56,0)) -> -0.76175739 | E5: =IF(CALCULOS!E5<CALCULOS!$E$55,CALCULOS!E5-CALCULOS!$E$55,IF(CALCULOS!E5>CALCULOS!$E$56,CALCULOS!E5-CALCULOS!$E$56,0)) -> 0.37668231 | F5: =IF(CALCULOS!F5<CALCULOS!$F$55,CALCULOS!F5-CALCULOS!$F$55,IF(CALCULOS!F5>CALCULOS!$F$56,CALCULOS!F5-CALCULOS!$F$56,0)) -> -2.4536341 | G5: =IF(CALCULOS!G5<CALCULOS!$G$55,CALCULOS!G5-CALCULOS!$G$55,IF(CALCULOS!G5>CALCULOS!$G$56,CALCULOS!G5-CALCULOS!$G$56,0)) -> -9.4255102 | H5: =IF(CALCULOS!H5<CALCULOS!$H$55,CALCULOS!H5-CALCULOS!$H$55,IF(CALCULOS!H5>CALCULOS!$H$56,CALCULOS!H5-CALCULOS!$H$56,0)) -> -2.0753058 | I5: =IF(CALCULOS!I5<CALCULOS!$I$55,CALCULOS!I5-CALCULOS!$I$55,IF(CALCULOS!I5>CALCULOS!$I$56,CALCULOS!I5-CALCULOS!$I$56,0)) -> -12.514037 | J5: =IF(CALCULOS!J5<CALCULOS!$J$55,CALCULOS!J5-CALCULOS!$J$55,IF(CALCULOS!J5>CALCULOS!$J$56,CALCULOS!J5-CALCULOS!$J$56,0)) -> -19.877549 | K5: =IF(CALCULOS!K5<CALCULOS!$K$55,CALCULOS!K5-CALCULOS!$K$55,IF(CALCULOS!K5>CALCULOS!$K$56,CALCULOS!K5-CALCULOS!$K$56,0)) -> -18.337671 | L5: =IF(CALCULOS!L5<CALCULOS!$L$55,CALCULOS!L5-CALCULOS!$L$55,IF(CALCULOS!L5>CALCULOS!$L$56,CALCULOS!L5-CALCULOS!$L$56,0)) -> -16.931065 | M5: =IF(CALCULOS!M5<CALCULOS!$M$55,CALCULOS!M5-CALCULOS!$M$55,IF(CALCULOS!M5>CALCULOS!$M$56,CALCULOS!M5-CALCULOS!$M$56,0)) -> -55.57449 | N5: =IF(CALCULOS!N5<CALCULOS!$N$55,CALCULOS!N5-CALCULOS!$N$55,IF(CALCULOS!N5>CALCULOS!$N$56,CALCULOS!N5-CALCULOS!$N$56,0)) -> -64.61281 | O5: =IF(CALCULOS!O5<CALCULOS!$O$55,CALCULOS!O5-CALCULOS!$O$55,IF(CALCULOS!O5>CALCULOS!$O$56,CALCULOS!O5-CALCULOS!$O$56,0)) -> -51.406638 | P5: =IF(CALCULOS!P5<CALCULOS!$P$55,CALCULOS!P5-CALCULOS!$P$55,IF(CALCULOS!P5>CALCULOS!$P$56,CALCULOS!P5-CALCULOS!$P$56,0)) -> -117.81959 | Q5: =IF(CALCULOS!Q5<CALCULOS!$Q$55,CALCULOS!Q5-CALCULOS!$Q$55,IF(CALCULOS!Q5>CALCULOS!$Q$56,CALCULOS!Q5-CALCULOS!$Q$56,0)) -> -136.98117 | R5: =IF(CALCULOS!R5<CALCULOS!$R$55,CALCULOS!R5-CALCULOS!$R$55,IF(CALCULOS!R5>CALCULOS!$R$56,CALCULOS!R5-CALCULOS!$R$56,0)) -> -97.181453 | S5: =IF(CALCULOS!S5<CALCULOS!$S$55,CALCULOS!S5-CALCULOS!$S$55,IF(CALCULOS!S5>CALCULOS!$S$56,CALCULOS!S5-CALCULOS!$S$56,0)) -> -217.84051 | T5: =IF(CALCULOS!T5<CALCULOS!$T$55,CALCULOS!T5-CALCULOS!$T$55,IF(CALCULOS!T5>CALCULOS!$T$56,CALCULOS!T5-CALCULOS!$T$56,0)) -> -191.97915
A6: =+casos!AU6 -> 4 | B6: =+casos!AV6 -> CCF023 | C6: =+casos!AW6 -> S | D6: =IF(CALCULOS!D6<CALCULOS!$D$55,CALCULOS!D6-CALCULOS!$D$55,IF(CALCULOS!D6>CALCULOS!$D$56,CALCULOS!D6-CALCULOS!$D$56,0)) -> -0.76175739 | E6: =IF(CALCULOS!E6<CALCULOS!$E$55,CALCULOS!E6-CALCULOS!$E$55,IF(CALCULOS!E6>CALCULOS!$E$56,CALCULOS!E6-CALCULOS!$E$56,0)) -> -1.3047247 | F6: =IF(CALCULOS!F6<CALCULOS!$F$55,CALCULOS!F6-CALCULOS!$F$55,IF(CALCULOS!F6>CALCULOS!$F$56,CALCULOS!F6-CALCULOS!$F$56,0)) -> -3.9184707 | G6: =IF(CALCULOS!G6<CALCULOS!$G$55,CALCULOS!G6-CALCULOS!$G$55,IF(CALCULOS!G6>CALCULOS!$G$56,CALCULOS!G6-CALCULOS!$G$56,0)) -> -3.5258052 | H6: =IF(CALCULOS!H6<CALCULOS!$H$55,CALCULOS!H6-CALCULOS!$H$55,IF(CALCULOS!H6>CALCULOS!$H$56,CALCULOS!H6-CALCULOS!$H$56,0)) -> -19.781315 | I6: =IF(CALCULOS!I6<CALCULOS!$I$55,CALCULOS!I6-CALCULOS!$I$55,IF(CALCULOS!I6>CALCULOS!$I$56,CALCULOS!I6-CALCULOS!$I$56,0)) -> -23.069352 | J6: =IF(CALCULOS!J6<CALCULOS!$J$55,CALCULOS!J6-CALCULOS!$J$55,IF(CALCULOS!J6>CALCULOS!$J$56,CALCULOS!J6-CALCULOS!$J$56,0)) -> -14.202721 | K6: =IF(CALCULOS!K6<CALCULOS!$K$55,CALCULOS!K6-CALCULOS!$K$55,IF(CALCULOS!K6>CALCULOS!$K$56,CALCULOS!K6-CALCULOS!$K$56,0)) -> 8.1028584 | L6: =IF(CALCULOS!L6<CALCULOS!$L$55,CALCULOS!L6-CALCULOS!$L$55,IF(CALCULOS!L6>CALCULOS!$L$56,CALCULOS!L6-CALCULOS!$L$56,0)) -> -46.641354 | M6: =IF(CALCULOS!M6<CALCULOS!$M$55,CALCULOS!M6-CALCULOS!$M$55,IF(CALCULOS!M6>CALCULOS!$M$56,CALCULOS!M6-CALCULOS!$M$56,0)) -> -36.072851 | N6: =IF(CALCULOS!N6<CALCULOS!$N$55,CALCULOS!N6-CALCULOS!$N$55,IF(CALCULOS!N6>CALCULOS!$N$56,CALCULOS!N6-CALCULOS!$N$56,0)) -> -5.8348457 | O6: =IF(CALCULOS!O6<CALCULOS!$O$55,CALCULOS!O6-CALCULOS!$O$55,IF(CALCULOS!O6>CALCULOS!$O$56,CALCULOS!O6-CALCULOS!$O$56,0)) -> -41.612606 | P6: =IF(CALCULOS!P6<CALCULOS!$P$55,CALCULOS!P6-CALCULOS!$P$55,IF(CALCULOS!P6>CALCULOS!$P$56,CALCULOS!P6-CALCULOS!$P$56,0)) -> -127.76084 | Q6: =IF(CALCULOS!Q6<CALCULOS!$Q$55,CALCULOS!Q6-CALCULOS!$Q$55,IF(CALCULOS!Q6>CALCULOS!$Q$56,CALCULOS!Q6-CALCULOS!$Q$56,0)) -> -142.12803 | R6: =IF(CALCULOS!R6<CALCULOS!$R$55,CALCULOS!R6-CALCULOS!$R$55,IF(CALCULOS!R6>CALCULOS!$R$56,CALCULOS!R6-CALCULOS!$R$56,0)) -> -117.50994 | S6: =IF(CALCULOS!S6<CALCULOS!$S$55,CALCULOS!S6-CALCULOS!$S$55,IF(CALCULOS!S6>CALCULOS!$S$56,CALCULOS!S6-CALCULOS!$S$56,0)) -> -156.77518 | T6: =IF(CALCULOS!T6<CALCULOS!$T$55,CALCULOS!T6-CALCULOS!$T$55,IF(CALCULOS!T6>CALCULOS!$T$56,CALCULOS!T6-CALCULOS!$T$56,0)) -> -207.66598
A7: =+casos!AU7 -> 5 | B7: =+casos!AV7 -> CCF024 | C7: =+casos!AW7 -> S | D7: =IF(CALCULOS!D7<CALCULOS!$D$55,CALCULOS!D7-CALCULOS!$D$55,IF(CALCULOS!D7>CALCULOS!$D$56,CALCULOS!D7-CALCULOS!$D$56,0)) -> -0.76175739 | E7: =IF(CALCULOS!E7<CALCULOS!$E$55,CALCULOS!E7-CALCULOS!$E$55,IF(CALCULOS!E7>CALCULOS!$E$56,CALCULOS!E7-CALCULOS!$E$56,0)) -> 0.68520626 | F7: =IF(CALCULOS!F7<CALCULOS!$F$55,CALCULOS!F7-CALCULOS!$F$55,IF(CALCULOS!F7>CALCULOS!$F$56,CALCULOS!F7-CALCULOS!$F$56,0)) -> 2.702292 | G7: =IF(CALCULOS!G7<CALCULOS!$G$55,CALCULOS!G7-CALCULOS!$G$55,IF(CALCULOS!G7>CALCULOS!$G$56,CALCULOS!G7-CALCULOS!$G$56,0)) -> -1.584341 | H7: =IF(CALCULOS!H7<CALCULOS!$H$55,CALCULOS!H7-CALCULOS!$H$55,IF(CALCULOS!H7>CALCULOS!$H$56,CALCULOS!H7-CALCULOS!$H$56,0)) -> 0.6180592 | I7: =IF(CALCULOS!I7<CALCULOS!$I$55,CALCULOS!I7-CALCULOS!$I$55,IF(CALCULOS!I7>CALCULOS!$I$56,CALCULOS!I7-CALCULOS!$I$56,0)) -> 1.0666521 | J7: =IF(CALCULOS!J7<CALCULOS!$J$55,CALCULOS!J7-CALCULOS!$J$55,IF(CALCULOS!J7>CALCULOS!$J$56,CALCULOS!J7-CALCULOS!$J$56,0)) -> 1.9336555 | K7: =IF(CALCULOS!K7<CALCULOS!$K$55,CALCULOS!K7-CALCULOS!$K$55,IF(CALCULOS!K7>CALCULOS!$K$56,CALCULOS!K7-CALCULOS!$K$56,0)) -> -7.7111274 | L7: =IF(CALCULOS!L7<CALCULOS!$L$55,CALCULOS!L7-CALCULOS!$L$55,IF(CALCULOS!L7>CALCULOS!$L$56,CALCULOS!L7-CALCULOS!$L$56,0)) -> 2.4213667 | M7: =IF(CALCULOS!M7<CALCULOS!$M$55,CALCULOS!M7-CALCULOS!$M$55,IF(CALCULOS!M7>CALCULOS!$M$56,CALCULOS!M7-CALCULOS!$M$56,0)) -> 41.611899 | N7: =IF(CALCULOS!N7<CALCULOS!$N$55,CALCULOS!N7-CALCULOS!$N$55,IF(CALCULOS!N7>CALCULOS!$N$56,CALCULOS!N7-CALCULOS!$N$56,0)) -> -11.047592 | O7: =IF(CALCULOS!O7<CALCULOS!$O$55,CALCULOS!O7-CALCULOS!$O$55,IF(CALCULOS!O7>CALCULOS!$O$56,CALCULOS!O7-CALCULOS!$O$56,0)) -> -6.8046209 | P7: =IF(CALCULOS!P7<CALCULOS!$P$55,CALCULOS!P7-CALCULOS!$P$55,IF(CALCULOS!P7>CALCULOS!$P$56,CALCULOS!P7-CALCULOS!$P$56,0)) -> 7.066975 | Q7: =IF(CALCULOS!Q7<CALCULOS!$Q$55,CALCULOS!Q7-CALCULOS!$Q$55,IF(CALCULOS!Q7>CALCULOS!$Q$56,CALCULOS!Q7-CALCULOS!$Q$56,0)) -> -34.781988 | R7: =IF(CALCULOS!R7<CALCULOS!$R$55,CALCULOS!R7-CALCULOS!$R$55,IF(CALCULOS!R7>CALCULOS!$R$56,CALCULOS!R7-CALCULOS!$R$56,0)) -> 20.200813 | S7: =IF(CALCULOS!S7<CALCULOS!$S$55,CALCULOS!S7-CALCULOS!$S$55,IF(CALCULOS!S7>CALCULOS!$S$56,CALCULOS!S7-CALCULOS!$S$56,0)) -> 94.645808 | T7: =IF(CALCULOS!T7<CALCULOS!$T$55,CALCULOS!T7-CALCULOS!$T$55,IF(CALCULOS!T7>CALCULOS!$T$56,CALCULOS!T7-CALCULOS!$T$56,0)) -> -50.228863
A8: =+casos!AU8 -> 6 | B8: =+casos!AV8 -> CCF027 | C8: =+casos!AW8 -> S | D8: =IF(CALCULOS!D8<CALCULOS!$D$55,CALCULOS!D8-CALCULOS!$D$55,IF(CALCULOS!D8>CALCULOS!$D$56,CALCULOS!D8-CALCULOS!$D$56,0)) -> -0.76175739 | E8: =IF(CALCULOS!E8<CALCULOS!$E$55,CALCULOS!E8-CALCULOS!$E$55,IF(CALCULOS!E8>CALCULOS!$E$56,CALCULOS!E8-CALCULOS!$E$56,0)) -> -1.3047247 | F8: =IF(CALCULOS!F8<CALCULOS!$F$55,CALCULOS!F8-CALCULOS!$F$55,IF(CALCULOS!F8>CALCULOS!$F$56,CALCULOS!F8-CALCULOS!$F$56,0)) -> 6.6289399 | G8: =IF(CALCULOS!G8<CALCULOS!$G$55,CALCULOS!G8-CALCULOS!$G$55,IF(CALCULOS!G8>CALCULOS!$G$56,CALCULOS!G8-CALCULOS!$G$56,0)) -> -9.4255102 | H8: =IF(CALCULOS!H8<CALCULOS!$H$55,CALCULOS!H8-CALCULOS!$H$55,IF(CALCULOS!H8>CALCULOS!$H$56,CALCULOS!H8-CALCULOS!$H$56,0)) -> -19.781315 | I8: =IF(CALCULOS!I8<CALCULOS!$I$55,CALCULOS!I8-CALCULOS!$I$55,IF(CALCULOS!I8>CALCULOS!$I$56,CALCULOS!I8-CALCULOS!$I$56,0)) -> 3.503322 | J8: =IF(CALCULOS!J8<CALCULOS!$J$55,CALCULOS!J8-CALCULOS!$J$55,IF(CALCULOS!J8>CALCULOS!$J$56,CALCULOS!J8-CALCULOS!$J$56,0)) -> -18.125261 | K8: =IF(CALCULOS!K8<CALCULOS!$K$55,CALCULOS!K8-CALCULOS!$K$55,IF(CALCULOS!K8>CALCULOS!$K$56,CALCULOS!K8-CALCULOS!$K$56,0)) -> 34.809276 | L8: =IF(CALCULOS!L8<CALCULOS!$L$55,CALCULOS!L8-CALCULOS!$L$55,IF(CALCULOS!L8>CALCULOS!$L$56,CALCULOS!L8-CALCULOS!$L$56,0)) -> -21.757199 | M8: =IF(CALCULOS!M8<CALCULOS!$M$55,CALCULOS!M8-CALCULOS!$M$55,IF(CALCULOS!M8>CALCULOS!$M$56,CALCULOS!M8-CALCULOS!$M$56,0)) -> -20.122735 | N8: =IF(CALCULOS!N8<CALCULOS!$N$55,CALCULOS!N8-CALCULOS!$N$55,IF(CALCULOS!N8>CALCULOS!$N$56,CALCULOS!N8-CALCULOS!$N$56,0)) -> -58.479001 | O8: =IF(CALCULOS!O8<CALCULOS!$O$55,CALCULOS!O8-CALCULOS!$O$55,IF(CALCULOS!O8>CALCULOS!$O$56,CALCULOS!O8-CALCULOS!$O$56,0)) -> -89.783209 | P8: =IF(CALCULOS!P8<CALCULOS!$P$55,CALCULOS!P8-CALCULOS!$P$55,IF(CALCULOS!P8>CALCULOS!$P$56,CALCULOS!P8-CALCULOS!$P$56,0)) -> -91.865243 | Q8: =IF(CALCULOS!Q8<CALCULOS!$Q$55,CALCULOS!Q8-CALCULOS!$Q$55,IF(CALCULOS!Q8>CALCULOS!$Q$56,CALCULOS!Q8-CALCULOS!$Q$56,0)) -> -56.983927 | R8: =IF(CALCULOS!R8<CALCULOS!$R$55,CALCULOS!R8-CALCULOS!$R$55,IF(CALCULOS!R8>CALCULOS!$R$56,CALCULOS!R8-CALCULOS!$R$56,0)) -> -73.241746 | S8: =IF(CALCULOS!S8<CALCULOS!$S$55,CALCULOS!S8-CALCULOS!$S$55,IF(CALCULOS!S8>CALCULOS!$S$56,CALCULOS!S8-CALCULOS!$S$56,0)) -> -197.57822 | T8: =IF(CALCULOS!T8<CALCULOS!$T$55,CALCULOS!T8-CALCULOS!$T$55,IF(CALCULOS!T8>CALCULOS!$T$56,CALCULOS!T8-CALCULOS!$T$56,0)) -> -168.38695
A9: =+casos!AU9 -> 7 | B9: =+casos!AV9 -> CCF033 | C9: =+casos!AW9 -> S | D9: =IF(CALCULOS!D9<CALCULOS!$D$55,CALCULOS!D9-CALCULOS!$D$55,IF(CALCULOS!D9>CALCULOS!$D$56,CALCULOS!D9-CALCULOS!$D$56,0)) -> -0.76175739 | E9: =IF(CALCULOS!E9<CALCULOS!$E$55,CALCULOS!E9-CALCULOS!$E$55,IF(CALCULOS!E9>CALCULOS!$E$56,CALCULOS!E9-CALCULOS!$E$56,0)) -> -1.3047247 | F9: =IF(CALCULOS!F9<CALCULOS!$F$55,CALCULOS!F9-CALCULOS!$F$55,IF(CALCULOS!F9>CALCULOS!$F$56,CALCULOS!F9-CALCULOS!$F$56,0)) -> -3.9184707 | G9: =IF(CALCULOS!G9<CALCULOS!$G$55,CALCULOS!G9-CALCULOS!$G$55,IF(CALCULOS!G9>CALCULOS!$G$56,CALCULOS!G9-CALCULOS!$G$56,0)) -> -9.4255102 | H9: =IF(CALCULOS!H9<CALCULOS!$H$55,CALCULOS!H9-CALCULOS!$H$55,IF(CALCULOS!H9>CALCULOS!$H$56,CALCULOS!H9-CALCULOS!$H$56,0)) -> 1.4930173 | I9: =IF(CALCULOS!I9<CALCULOS!$I$55,CALCULOS!I9-CALCULOS!$I$55,IF(CALCULOS!I9>CALCULOS!$I$56,CALCULOS!I9-CALCULOS!$I$56,0)) -> 20.488295 | J9: =IF(CALCULOS!J9<CALCULOS!$J$55,CALCULOS!J9-CALCULOS!$J$55,IF(CALCULOS!J9>CALCULOS!$J$56,CALCULOS!J9-CALCULOS!$J$56,0)) -> -31.945112 | K9: =IF(CALCULOS!K9<CALCULOS!$K$55,CALCULOS!K9-CALCULOS!$K$55,IF(CALCULOS!K9>CALCULOS!$K$56,CALCULOS!K9-CALCULOS!$K$56,0)) -> 28.045318 | L9: =IF(CALCULOS!L9<CALCULOS!$L$55,CALCULOS!L9-CALCULOS!$L$55,IF(CALCULOS!L9>CALCULOS!$L$56,CALCULOS!L9-CALCULOS!$L$56,0)) -> 32.152608 | M9: =IF(CALCULOS!M9<CALCULOS!$M$55,CALCULOS!M9-CALCULOS!$M$55,IF(CALCULOS!M9>CALCULOS!$M$56,CALCULOS!M9-CALCULOS!$M$56,0)) -> -68.61145 | N9: =IF(CALCULOS!N9<CALCULOS!$N$55,CALCULOS!N9-CALCULOS!$N$55,IF(CALCULOS!N9>CALCULOS!$N$56,CALCULOS!N9-CALCULOS!$N$56,0)) -> -96.476095 | O9: =IF(CALCULOS!O9<CALCULOS!$O$55,CALCULOS!O9-CALCULOS!$O$55,IF(CALCULOS!O9>CALCULOS!$O$56,CALCULOS!O9-CALCULOS!$O$56,0)) -> -1.5389631 | P9: =IF(CALCULOS!P9<CALCULOS!$P$55,CALCULOS!P9-CALCULOS!$P$55,IF(CALCULOS!P9>CALCULOS!$P$56,CALCULOS!P9-CALCULOS!$P$56,0)) -> 83.595878 | Q9: =IF(CALCULOS!Q9<CALCULOS!$Q$55,CALCULOS!Q9-CALCULOS!$Q$55,IF(CALCULOS!Q9>CALCULOS!$Q$56,CALCULOS!Q9-CALCULOS!$Q$56,0)) -> -181.21807 | R9: =IF(CALCULOS!R9<CALCULOS!$R$55,CALCULOS!R9-CALCULOS!$R$55,IF(CALCULOS!R9>CALCULOS!$R$56,CALCULOS!R9-CALCULOS!$R$56,0)) -> -63.017307 | S9: =IF(CALCULOS!S9<CALCULOS!$S$55,CALCULOS!S9-CALCULOS!$S$55,IF(CALCULOS!S9>CALCULOS!$S$56,CALCULOS!S9-CALCULOS!$S$56,0)) -> -38.725809 | T9: =IF(CALCULOS!T9<CALCULOS!$T$55,CALCULOS!T9-CALCULOS!$T$55,IF(CALCULOS!T9>CALCULOS!$T$56,CALCULOS!T9-CALCULOS!$T$56,0)) -> -86.119338
A10: =+casos!AU10 -> 8 | B10: =+casos!AV10 -> CCF049 | C10: =+casos!AW10 -> S | D10: =IF(CALCULOS!D10<CALCULOS!$D$55,CALCULOS!D10-CALCULOS!$D$55,IF(CALCULOS!D10>CALCULOS!$D$56,CALCULOS!D10-CALCULOS!$D$56,0)) -> -0.76175739 | E10: =IF(CALCULOS!E10<CALCULOS!$E$55,CALCULOS!E10-CALCULOS!$E$55,IF(CALCULOS!E10>CALCULOS!$E$56,CALCULOS!E10-CALCULOS!$E$56,0)) -> -1.3047247 | F10: =IF(CALCULOS!F10<CALCULOS!$F$55,CALCULOS!F10-CALCULOS!$F$55,IF(CALCULOS!F10>CALCULOS!$F$56,CALCULOS!F10-CALCULOS!$F$56,0)) -> 5.3700301 | G10: =IF(CALCULOS!G10<CALCULOS!$G$55,CALCULOS!G10-CALCULOS!$G$55,IF(CALCULOS!G10>CALCULOS!$G$56,CALCULOS!G10-CALCULOS!$G$56,0)) -> -1.227445 | H10: =IF(CALCULOS!H10<CALCULOS!$H$55,CALCULOS!H10-CALCULOS!$H$55,IF(CALCULOS!H10>CALCULOS!$H$56,CALCULOS!H10-CALCULOS!$H$56,0)) -> -8.8067762 | I10: =IF(CALCULOS!I10<CALCULOS!$I$55,CALCULOS!I10-CALCULOS!$I$55,IF(CALCULOS!I10>CALCULOS!$I$56,CALCULOS!I10-CALCULOS!$I$56,0)) -> 40.489959 | J10: =IF(CALCULOS!J10<CALCULOS!$J$55,CALCULOS!J10-CALCULOS!$J$55,IF(CALCULOS!J10>CALCULOS!$J$56,CALCULOS!J10-CALCULOS!$J$56,0)) -> -32.871553 | K10: =IF(CALCULOS!K10<CALCULOS!$K$55,CALCULOS!K10-CALCULOS!$K$55,IF(CALCULOS!K10>CALCULOS!$K$56,CALCULOS!K10-CALCULOS!$K$56,0)) -> -45.414308 | L10: =IF(CALCULOS!L10<CALCULOS!$L$55,CALCULOS!L10-CALCULOS!$L$55,IF(CALCULOS!L10>CALCULOS!$L$56,CALCULOS!L10-CALCULOS!$L$56,0)) -> 32.073786 | M10: =IF(CALCULOS!M10<CALCULOS!$M$55,CALCULOS!M10-CALCULOS!$M$55,IF(CALCULOS!M10>CALCULOS!$M$56,CALCULOS!M10-CALCULOS!$M$56,0)) -> -25.122412 | N10: =IF(CALCULOS!N10<CALCULOS!$N$55,CALCULOS!N10-CALCULOS!$N$55,IF(CALCULOS!N10>CALCULOS!$N$56,CALCULOS!N10-CALCULOS!$N$56,0)) -> -51.0644 | O10: =IF(CALCULOS!O10<CALCULOS!$O$55,CALCULOS!O10-CALCULOS!$O$55,IF(CALCULOS!O10>CALCULOS!$O$56,CALCULOS!O10-CALCULOS!$O$56,0)) -> -105.27223 | P10: =IF(CALCULOS!P10<CALCULOS!$P$55,CALCULOS!P10-CALCULOS!$P$55,IF(CALCULOS!P10>CALCULOS!$P$56,CALCULOS!P10-CALCULOS!$P$56,0)) -> -145.5073 | Q10: =IF(CALCULOS!Q10<CALCULOS!$Q$55,CALCULOS!Q10-CALCULOS!$Q$55,IF(CALCULOS!Q10>CALCULOS!$Q$56,CALCULOS!Q10-CALCULOS!$Q$56,0)) -> -157.0984 | R10: =IF(CALCULOS!R10<CALCULOS!$R$55,CALCULOS!R10-CALCULOS!$R$55,IF(CALCULOS!R10>CALCULOS!$R$56,CALCULOS!R10-CALCULOS!$R$56,0)) -> -256.63642 | S10: =IF(CALCULOS!S10<CALCULOS!$S$55,CALCULOS!S10-CALCULOS!$S$55,IF(CALCULOS!S10>CALCULOS!$S$56,CALCULOS!S10-CALCULOS!$S$56,0)) -> -291.12359 | T10: =IF(CALCULOS!T10<CALCULOS!$T$55,CALCULOS!T10-CALCULOS!$T$55,IF(CALCULOS!T10>CALCULOS!$T$56,CALCULOS!T10-CALCULOS!$T$56,0)) -> -164.957
A11: =+casos!AU11 -> 9 | B11: =+casos!AV11 -> CCF053 | C11: =+casos!AW11 -> S | D11: =IF(CALCULOS!D11<CALCULOS!$D$55,CALCULOS!D11-CALCULOS!$D$55,IF(CALCULOS!D11>CALCULOS!$D$56,CALCULOS!D11-CALCULOS!$D$56,0)) -> -0.76175739 | E11: =IF(CALCULOS!E11<CALCULOS!$E$55,CALCULOS!E11-CALCULOS!$E$55,IF(CALCULOS!E11>CALCULOS!$E$56,CALCULOS!E11-CALCULOS!$E$56,0)) -> -1.3047247 | F11: =IF(CALCULOS!F11<CALCULOS!$F$55,CALCULOS!F11-CALCULOS!$F$55,IF(CALCULOS!F11>CALCULOS!$F$56,CALCULOS!F11-CALCULOS!$F$56,0)) -> -3.9184707 | G11: =IF(CALCULOS!G11<CALCULOS!$G$55,CALCULOS!G11-CALCULOS!$G$55,IF(CALCULOS!G11>CALCULOS!$G$56,CALCULOS!G11-CALCULOS!$G$56,0)) -> -2.6301854 | H11: =IF(CALCULOS!H11<CALCULOS!$H$55,CALCULOS!H11-CALCULOS!$H$55,IF(CALCULOS!H11>CALCULOS!$H$56,CALCULOS!H11-CALCULOS!$H$56,0)) -> 32.900173 | I11: =IF(CALCULOS!I11<CALCULOS!$I$55,CALCULOS!I11-CALCULOS!$I$55,IF(CALCULOS!I11>CALCULOS!$I$56,CALCULOS!I11-CALCULOS!$I$56,0)) -> 34.443557 | J11: =IF(CALCULOS!J11<CALCULOS!$J$55,CALCULOS!J11-CALCULOS!$J$55,IF(CALCULOS!J11>CALCULOS!$J$56,CALCULOS!J11-CALCULOS!$J$56,0)) -> 40.977564 | K11: =IF(CALCULOS!K11<CALCULOS!$K$55,CALCULOS!K11-CALCULOS!$K$55,IF(CALCULOS!K11>CALCULOS!$K$56,CALCULOS!K11-CALCULOS!$K$56,0)) -> 4.3881038 | L11: =IF(CALCULOS!L11<CALCULOS!$L$55,CALCULOS!L11-CALCULOS!$L$55,IF(CALCULOS!L11>CALCULOS!$L$56,CALCULOS!L11-CALCULOS!$L$56,0)) -> 5.9545167 | M11: =IF(CALCULOS!M11<CALCULOS!$M$55,CALCULOS!M11-CALCULOS!$M$55,IF(CALCULOS!M11>CALCULOS!$M$56,CALCULOS!M11-CALCULOS!$M$56,0)) -> 84.42839 | N11: =IF(CALCULOS!N11<CALCULOS!$N$55,CALCULOS!N11-CALCULOS!$N$55,IF(CALCULOS!N11>CALCULOS!$N$56,CALCULOS!N11-CALCULOS!$N$56,0)) -> -40.930178 | O11: =IF(CALCULOS!O11<CALCULOS!$O$55,CALCULOS!O11-CALCULOS!$O$55,IF(CALCULOS!O11>CALCULOS!$O$56,CALCULOS!O11-CALCULOS!$O$56,0)) -> 118.09718 | P11: =IF(CALCULOS!P11<CALCULOS!$P$55,CALCULOS!P11-CALCULOS!$P$55,IF(CALCULOS!P11>CALCULOS!$P$56,CALCULOS!P11-CALCULOS!$P$56,0)) -> 0.32349912 | Q11: =IF(CALCULOS!Q11<CALCULOS!$Q$55,CALCULOS!Q11-CALCULOS!$Q$55,IF(CALCULOS!Q11>CALCULOS!$Q$56,CALCULOS!Q11-CALCULOS!$Q$56,0)) -> 47.442061 | R11: =IF(CALCULOS!R11<CALCULOS!$R$55,CALCULOS!R11-CALCULOS!$R$55,IF(CALCULOS!R11>CALCULOS!$R$56,CALCULOS!R11-CALCULOS!$R$56,0)) -> 101.45692 | S11: =IF(CALCULOS!S11<CALCULOS!$S$55,CALCULOS!S11-CALCULOS!$S$55,IF(CALCULOS!S11>CALCULOS!$S$56,CALCULOS!S11-CALCULOS!$S$56,0)) -> 357.90287 | T11: =IF(CALCULOS!T11<CALCULOS!$T$55,CALCULOS!T11-CALCULOS!$T$55,IF(CALCULOS!T11>CALCULOS!$T$56,CALCULOS!T11-CALCULOS!$T$56,0)) -> 135.99022
A12: =+casos!AU12 -> 10 | B12: =+casos!AV12 -> CCF055 | C12: =+casos!AW12 -> S | D12: =IF(CALCULOS!D12<CALCULOS!$D$55,CALCULOS!D12-CALCULOS!$D$55,IF(CALCULOS!D12>CALCULOS!$D$56,CALCULOS!D12-CALCULOS!$D$56,0)) -> -0.76175739 | E12: =IF(CALCULOS!E12<CALCULOS!$E$55,CALCULOS!E12-CALCULOS!$E$55,IF(CALCULOS!E12>CALCULOS!$E$56,CALCULOS!E12-CALCULOS!$E$56,0)) -> -1.3047247 | F12: =IF(CALCULOS!F12<CALCULOS!$F$55,CALCULOS!F12-CALCULOS!$F$55,IF(CALCULOS!F12>CALCULOS!$F$56,CALCULOS!F12-CALCULOS!$F$56,0)) -> -2.5507623 | G12: =IF(CALCULOS!G12<CALCULOS!$G$55,CALCULOS!G12-CALCULOS!$G$55,IF(CALCULOS!G12>CALCULOS!$G$56,CALCULOS!G12-CALCULOS!$G$56,0)) -> -6.8772851 | H12: =IF(CALCULOS!H12<CALCULOS!$H$55,CALCULOS!H12-CALCULOS!$H$55,IF(CALCULOS!H12>CALCULOS!$H$56,CALCULOS!H12-CALCULOS!$H$56,0)) -> -10.768652 | I12: =IF(CALCULOS!I12<CALCULOS!$I$55,CALCULOS!I12-CALCULOS!$I$55,IF(CALCULOS!I12>CALCULOS!$I$56,CALCULOS!I12-CALCULOS!$I$56,0)) -> -17.328247 | J12: =IF(CALCULOS!J12<CALCULOS!$J$55,CALCULOS!J12-CALCULOS!$J$55,IF(CALCULOS!J12>CALCULOS!$J$56,CALCULOS!J12-CALCULOS!$J$56,0)) -> -22.220744 | K12: =IF(CALCULOS!K12<CALCULOS!$K$55,CALCULOS!K12-CALCULOS!$K$55,IF(CALCULOS!K12>CALCULOS!$K$56,CALCULOS!K12-CALCULOS!$K$56,0)) -> -41.263339 | L12: =IF(CALCULOS!L12<CALCULOS!$L$55,CALCULOS!L12-CALCULOS!$L$55,IF(CALCULOS!L12>CALCULOS!$L$56,CALCULOS!L12-CALCULOS!$L$56,0)) -> -42.783562 | M12: =IF(CALCULOS!M12<CALCULOS!$M$55,CALCULOS!M12-CALCULOS!$M$55,IF(CALCULOS!M12>CALCULOS!$M$56,CALCULOS!M12-CALCULOS!$M$56,0)) -> -56.234721 | N12: =IF(CALCULOS!N12<CALCULOS!$N$55,CALCULOS!N12-CALCULOS!$N$55,IF(CALCULOS!N12>CALCULOS!$N$56,CALCULOS!N12-CALCULOS!$N$56,0)) -> -61.961943 | O12: =IF(CALCULOS!O12<CALCULOS!$O$55,CALCULOS!O12-CALCULOS!$O$55,IF(CALCULOS!O12>CALCULOS!$O$56,CALCULOS!O12-CALCULOS!$O$56,0)) -> -71.537361 | P12: =IF(CALCULOS!P12<CALCULOS!$P$55,CALCULOS!P12-CALCULOS!$P$55,IF(CALCULOS!P12>CALCULOS!$P$56,CALCULOS!P12-CALCULOS!$P$56,0)) -> -103.06521 | Q12: =IF(CALCULOS!Q12<CALCULOS!$Q$55,CALCULOS!Q12-CALCULOS!$Q$55,IF(CALCULOS!Q12>CALCULOS!$Q$56,CALCULOS!Q12-CALCULOS!$Q$56,0)) -> -181.03272 | R12: =IF(CALCULOS!R12<CALCULOS!$R$55,CALCULOS!R12-CALCULOS!$R$55,IF(CALCULOS!R12>CALCULOS!$R$56,CALCULOS!R12-CALCULOS!$R$56,0)) -> -140.82497 | S12: =IF(CALCULOS!S12<CALCULOS!$S$55,CALCULOS!S12-CALCULOS!$S$55,IF(CALCULOS!S12>CALCULOS!$S$56,CALCULOS!S12-CALCULOS!$S$56,0)) -> -169.75097 | T12: =IF(CALCULOS!T12<CALCULOS!$T$55,CALCULOS!T12-CALCULOS!$T$55,IF(CALCULOS!T12>CALCULOS!$T$56,CALCULOS!T12-CALCULOS!$T$56,0)) -> -107.03662
A13: =+casos!AU13 -> 11 | B13: =+casos!AV13 -> CCF102 | C13: =+casos!AW13 -> S | D13: =IF(CALCULOS!D13<CALCULOS!$D$55,CALCULOS!D13-CALCULOS!$D$55,IF(CALCULOS!D13>CALCULOS!$D$56,CALCULOS!D13-CALCULOS!$D$56,0)) -> -0.76175739 | E13: =IF(CALCULOS!E13<CALCULOS!$E$55,CALCULOS!E13-CALCULOS!$E$55,IF(CALCULOS!E13>CALCULOS!$E$56,CALCULOS!E13-CALCULOS!$E$56,0)) -> -1.3047247 | F13: =IF(CALCULOS!F13<CALCULOS!$F$55,CALCULOS!F13-CALCULOS!$F$55,IF(CALCULOS!F13>CALCULOS!$F$56,CALCULOS!F13-CALCULOS!$F$56,0)) -> -3.9184707 | G13: =IF(CALCULOS!G13<CALCULOS!$G$55,CALCULOS!G13-CALCULOS!$G$55,IF(CALCULOS!G13>CALCULOS!$G$56,CALCULOS!G13-CALCULOS!$G$56,0)) -> -3.885651 | H13: =IF(CALCULOS!H13<CALCULOS!$H$55,CALCULOS!H13-CALCULOS!$H$55,IF(CALCULOS!H13>CALCULOS!$H$56,CALCULOS!H13-CALCULOS!$H$56,0)) -> -5.9184193 | I13: =IF(CALCULOS!I13<CALCULOS!$I$55,CALCULOS!I13-CALCULOS!$I$55,IF(CALCULOS!I13>CALCULOS!$I$56,CALCULOS!I13-CALCULOS!$I$56,0)) -> -30.512597 | J13: =IF(CALCULOS!J13<CALCULOS!$J$55,CALCULOS!J13-CALCULOS!$J$55,IF(CALCULOS!J13>CALCULOS!$J$56,CALCULOS!J13-CALCULOS!$J$56,0)) -> -37.599034 | K13: =IF(CALCULOS!K13<CALCULOS!$K$55,CALCULOS!K13-CALCULOS!$K$55,IF(CALCULOS!K13>CALCULOS!$K$56,CALCULOS!K13-CALCULOS!$K$56,0)) -> -60.044886 | L13: =IF(CALCULOS!L13<CALCULOS!$L$55,CALCULOS!L13-CALCULOS!$L$55,IF(CALCULOS!L13>CALCULOS!$L$56,CALCULOS!L13-CALCULOS!$L$56,0)) -> -61.045542 | M13: =IF(CALCULOS!M13<CALCULOS!$M$55,CALCULOS!M13-CALCULOS!$M$55,IF(CALCULOS!M13>CALCULOS!$M$56,CALCULOS!M13-CALCULOS!$M$56,0)) -> -32.191142 | N13: =IF(CALCULOS!N13<CALCULOS!$N$55,CALCULOS!N13-CALCULOS!$N$55,IF(CALCULOS!N13>CALCULOS!$N$56,CALCULOS!N13-CALCULOS!$N$56,0)) -> -96.857347 | O13: =IF(CALCULOS!O13<CALCULOS!$O$55,CALCULOS!O13-CALCULOS!$O$55,IF(CALCULOS!O13>CALCULOS!$O$56,CALCULOS!O13-CALCULOS!$O$56,0)) -> -140.73712 | P13: =IF(CALCULOS!P13<CALCULOS!$P$55,CALCULOS!P13-CALCULOS!$P$55,IF(CALCULOS!P13>CALCULOS!$P$56,CALCULOS!P13-CALCULOS!$P$56,0)) -> -148.51201 | Q13: =IF(CALCULOS!Q13<CALCULOS!$Q$55,CALCULOS!Q13-CALCULOS!$Q$55,IF(CALCULOS!Q13>CALCULOS!$Q$56,CALCULOS!Q13-CALCULOS!$Q$56,0)) -> -33.762491 | R13: =IF(CALCULOS!R13<CALCULOS!$R$55,CALCULOS!R13-CALCULOS!$R$55,IF(CALCULOS!R13>CALCULOS!$R$56,CALCULOS!R13-CALCULOS!$R$56,0)) -> -174.61829 | S13: =IF(CALCULOS!S13<CALCULOS!$S$55,CALCULOS!S13-CALCULOS!$S$55,IF(CALCULOS!S13>CALCULOS!$S$56,CALCULOS!S13-CALCULOS!$S$56,0)) -> -161.30965 | T13: =IF(CALCULOS!T13<CALCULOS!$T$55,CALCULOS!T13-CALCULOS!$T$55,IF(CALCULOS!T13>CALCULOS!$T$56,CALCULOS!T13-CALCULOS!$T$56,0)) -> -235.95452
A14: =+casos!AU14 -> 12 | B14: =+casos!AV14 -> EAS016 | C14: =+casos!AW14 -> C | D14: =IF(CALCULOS!D14<CALCULOS!$D$55,CALCULOS!D14-CALCULOS!$D$55,IF(CALCULOS!D14>CALCULOS!$D$56,CALCULOS!D14-CALCULOS!$D$56,0)) -> -0.76175739 | E14: =IF(CALCULOS!E14<CALCULOS!$E$55,CALCULOS!E14-CALCULOS!$E$55,IF(CALCULOS!E14>CALCULOS!$E$56,CALCULOS!E14-CALCULOS!$E$56,0)) -> -1.3047247 | F14: =IF(CALCULOS!F14<CALCULOS!$F$55,CALCULOS!F14-CALCULOS!$F$55,IF(CALCULOS!F14>CALCULOS!$F$56,CALCULOS!F14-CALCULOS!$F$56,0)) -> -3.9184707 | G14: =IF(CALCULOS!G14<CALCULOS!$G$55,CALCULOS!G14-CALCULOS!$G$55,IF(CALCULOS!G14>CALCULOS!$G$56,CALCULOS!G14-CALCULOS!$G$56,0)) -> -9.4255102 | H14: =IF(CALCULOS!H14<CALCULOS!$H$55,CALCULOS!H14-CALCULOS!$H$55,IF(CALCULOS!H14>CALCULOS!$H$56,CALCULOS!H14-CALCULOS!$H$56,0)) -> -19.781315 | I14: =IF(CALCULOS!I14<CALCULOS!$I$55,CALCULOS!I14-CALCULOS!$I$55,IF(CALCULOS!I14>CALCULOS!$I$56,CALCULOS!I14-CALCULOS!$I$56,0)) -> -30.512597 | J14: =IF(CALCULOS!J14<CALCULOS!$J$55,CALCULOS!J14-CALCULOS!$J$55,IF(CALCULOS!J14>CALCULOS!$J$56,CALCULOS!J14-CALCULOS!$J$56,0)) -> -47.465832 | K14: =IF(CALCULOS!K14<CALCULOS!$K$55,CALCULOS!K14-CALCULOS!$K$55,IF(CALCULOS!K14>CALCULOS!$K$56,CALCULOS!K14-CALCULOS!$K$56,0)) -> -60.044886 | L14: =IF(CALCULOS!L14<CALCULOS!$L$55,CALCULOS!L14-CALCULOS!$L$55,IF(CALCULOS!L14>CALCULOS!$L$56,CALCULOS!L14-CALCULOS!$L$56,0)) -> -76.621866 | M14: =IF(CALCULOS!M14<CALCULOS!$M$55,CALCULOS!M14-CALCULOS!$M$55,IF(CALCULOS!M14>CALCULOS!$M$56,CALCULOS!M14-CALCULOS!$M$56,0)) -> -104.21131 | N14: =IF(CALCULOS!N14<CALCULOS!$N$55,CALCULOS!N14-CALCULOS!$N$55,IF(CALCULOS!N14>CALCULOS!$N$56,CALCULOS!N14-CALCULOS!$N$56,0)) -> -72.760688 | O14: =IF(CALCULOS!O14<CALCULOS!$O$55,CALCULOS!O14-CALCULOS!$O$55,IF(CALCULOS!O14>CALCULOS!$O$56,CALCULOS!O14-CALCULOS!$O$56,0)) -> 104.03159 | P14: =IF(CALCULOS!P14<CALCULOS!$P$55,CALCULOS!P14-CALCULOS!$P$55,IF(CALCULOS!P14>CALCULOS!$P$56,CALCULOS!P14-CALCULOS!$P$56,0)) -> -33.353072 | Q14: =IF(CALCULOS!Q14<CALCULOS!$Q$55,CALCULOS!Q14-CALCULOS!$Q$55,IF(CALCULOS!Q14>CALCULOS!$Q$56,CALCULOS!Q14-CALCULOS!$Q$56,0)) -> 325.06834 | R14: =IF(CALCULOS!R14<CALCULOS!$R$55,CALCULOS!R14-CALCULOS!$R$55,IF(CALCULOS!R14>CALCULOS!$R$56,CALCULOS!R14-CALCULOS!$R$56,0)) -> 244.85688 | S14: =IF(CALCULOS!S14<CALCULOS!$S$55,CALCULOS!S14-CALCULOS!$S$55,IF(CALCULOS!S14>CALCULOS!$S$56,CALCULOS!S14-CALCULOS!$S$56,0)) -> -291.12359 | T14: =IF(CALCULOS!T14<CALCULOS!$T$55,CALCULOS!T14-CALCULOS!$T$55,IF(CALCULOS!T14>CALCULOS!$T$56,CALCULOS!T14-CALCULOS!$T$56,0)) -> -235.95452
